BEGIN:VCALENDAR
VERSION:2.0
PRODID:-//Mass MEP - ECPv6.15.20//NONSGML v1.0//EN
CALSCALE:GREGORIAN
METHOD:PUBLISH
X-WR-CALNAME:Mass MEP
X-ORIGINAL-URL:https://massmep.org
X-WR-CALDESC:Events for Mass MEP
REFRESH-INTERVAL;VALUE=DURATION:PT1H
X-Robots-Tag:noindex
X-PUBLISHED-TTL:PT1H
BEGIN:VTIMEZONE
TZID:America/New_York
BEGIN:DAYLIGHT
TZOFFSETFROM:-0500
TZOFFSETTO:-0400
TZNAME:EDT
DTSTART:20210314T070000
END:DAYLIGHT
BEGIN:STANDARD
TZOFFSETFROM:-0400
TZOFFSETTO:-0500
TZNAME:EST
DTSTART:20211107T060000
END:STANDARD
BEGIN:DAYLIGHT
TZOFFSETFROM:-0500
TZOFFSETTO:-0400
TZNAME:EDT
DTSTART:20220313T070000
END:DAYLIGHT
BEGIN:STANDARD
TZOFFSETFROM:-0400
TZOFFSETTO:-0500
TZNAME:EST
DTSTART:20221106T060000
END:STANDARD
BEGIN:DAYLIGHT
TZOFFSETFROM:-0500
TZOFFSETTO:-0400
TZNAME:EDT
DTSTART:20230312T070000
END:DAYLIGHT
BEGIN:STANDARD
TZOFFSETFROM:-0400
TZOFFSETTO:-0500
TZNAME:EST
DTSTART:20231105T060000
END:STANDARD
END:VTIMEZONE
BEGIN:VEVENT
DTSTART;TZID=America/New_York:20220727T110000
DTEND;TZID=America/New_York:20220727T113000
DTSTAMP:20260421T145000
CREATED:20240828T175748Z
LAST-MODIFIED:20240828T183815Z
UID:10000803-1658919600-1658921400@massmep.org
SUMMARY:Exploring Workforce Training Grants with AIM HR Solutions & MassMEP
DESCRIPTION:Each year\, Massachusetts awards millions of dollars in grant money to Massachusetts businesses through the Workforce Training Fund (WTFP). Many companies are unfamiliar with the General Grant or Express Grant Programs funded by the Workforce Training Fund Program. It’s time for your organization to take advantage of this funding and achieve business growth\, increased productivity\, and employee retention. \nJoin AIM HR Solutions & MassMEP grant experts as they answer the most asked questions surrounding the grant programs\, such as: \n\nDo I qualify\, and how do I get started?\nWhich training topics are eligible for grant funding?\nWhat are some best practices and tips for getting my application approved?\nHow long does the process take?\nHow do I build a training plan that meets my organization’s needs?\n\nRegister Here
URL:https://massmep.org/event/exploring-workforce-training-grants-with-aim-hr-solutions-massmep/
LOCATION:Zoom
ATTACH;FMTTYPE=image/png:https://massmep.org/wp-content/uploads/2024/08/Screen-Shot-2022-06-15-at-2.39.23-PM-4tJ58g.tmp_.png
END:VEVENT
END:VCALENDAR