BEGIN:VCALENDAR
VERSION:2.0
PRODID:-//Mass MEP - ECPv6.15.20//NONSGML v1.0//EN
CALSCALE:GREGORIAN
METHOD:PUBLISH
X-ORIGINAL-URL:https://massmep.org
X-WR-CALDESC:Events for Mass MEP
REFRESH-INTERVAL;VALUE=DURATION:PT1H
X-Robots-Tag:noindex
X-PUBLISHED-TTL:PT1H
BEGIN:VTIMEZONE
TZID:America/New_York
BEGIN:DAYLIGHT
TZOFFSETFROM:-0500
TZOFFSETTO:-0400
TZNAME:EDT
DTSTART:20210314T070000
END:DAYLIGHT
BEGIN:STANDARD
TZOFFSETFROM:-0400
TZOFFSETTO:-0500
TZNAME:EST
DTSTART:20211107T060000
END:STANDARD
BEGIN:DAYLIGHT
TZOFFSETFROM:-0500
TZOFFSETTO:-0400
TZNAME:EDT
DTSTART:20220313T070000
END:DAYLIGHT
BEGIN:STANDARD
TZOFFSETFROM:-0400
TZOFFSETTO:-0500
TZNAME:EST
DTSTART:20221106T060000
END:STANDARD
BEGIN:DAYLIGHT
TZOFFSETFROM:-0500
TZOFFSETTO:-0400
TZNAME:EDT
DTSTART:20230312T070000
END:DAYLIGHT
BEGIN:STANDARD
TZOFFSETFROM:-0400
TZOFFSETTO:-0500
TZNAME:EST
DTSTART:20231105T060000
END:STANDARD
BEGIN:DAYLIGHT
TZOFFSETFROM:-0500
TZOFFSETTO:-0400
TZNAME:EDT
DTSTART:20240310T070000
END:DAYLIGHT
BEGIN:STANDARD
TZOFFSETFROM:-0400
TZOFFSETTO:-0500
TZNAME:EST
DTSTART:20241103T060000
END:STANDARD
END:VTIMEZONE
BEGIN:VEVENT
DTSTART;TZID=America/New_York:20231128T110000
DTEND;TZID=America/New_York:20231128T123000
DTSTAMP:20260421T122314
CREATED:20240828T180000Z
LAST-MODIFIED:20240828T183838Z
UID:10000901-1701169200-1701174600@massmep.org
SUMMARY:Manufacturing Readiness Workshop - Partner Event: FORGE
DESCRIPTION:Register to receive communications on workshop details going forward. \nThe topic areas and dates are: \nNovember 7 – Planning for Scaling Manufacturing \nNovember 14 – Managing Development: Processes Needed to Move from Development to Commercialization \nNovember 21 – Funding Innovation from Idea to A-Round \nNovember 28 – Design for X: So Much More than Manufacturing \nWhile the workshops are most valuable as a series\, feel free to register even if you may have a conflict with one of the dates. \nRegister Here
URL:https://massmep.org/event/manufacturing-readiness-workshop-partner-event-forge-4/
ATTACH;FMTTYPE=image/webp:https://massmep.org/wp-content/uploads/2024/08/Copy-of-FORGE-Manufacturing-Readiness-Workshop-DcJcCo.tmp_.webp
END:VEVENT
BEGIN:VEVENT
DTSTART;TZID=America/New_York:20231013T080000
DTEND;TZID=America/New_York:20231013T130000
DTSTAMP:20260421T122314
CREATED:20240828T175944Z
LAST-MODIFIED:20240828T183837Z
UID:10000889-1697184000-1697202000@massmep.org
SUMMARY:WiM Massachusetts | EMPOWER 2023: Development for New Growth
DESCRIPTION:WiM Massachusetts presents\nEMPOWER 2023\nDevelopment for New Growth\nFriday\, October 13\, 2023 \n8:00 a.m. – 1:00 p.m. ET \nThis event will be a hybrid experience!\nRegister to join us virtually or in-person.\nPlease note: Plant tours are included with in-person registration only and closed toe shoes are required. \nIn-person Location:\nSensata Technologies\n529 Pleasant St.\nAttleboro\, MA 02703 \nCost to Attend:\nWiM Member – In-person = $20\nWiM Member – Virtual = $10\nNonmember – In-person = $30\nNonmember – Virtual = $15 \nGet ready for Women in Manufacturing Massachusetts 5th annual EMPOWER Conference: “Development for New Growth”. In person or virtually\, join us Friday morning\, October 13\, 2023 to meet\, connect and be inspired by speakers from industry leading companies including New Balance Athletics\, Amazon Robotics\, Dell\, ReciBioPharm\, Sensata Technologies and Evident Industrial. And special thanks to our host\, Sensata Technologies\, a plant tour will wrap up the morning! We know you will leave more connected\, energized and inspired. Register and save your seat today. \n\nAGENDA\n8:00 a.m – 8:30 a.m. | Guest Check-in & Breakfast \n8:30 a.m. – 8:45 a.m. | Welcome –  Jennifer LEAVITT\, Senior Process Engineer\, INSIGHTS\, Sensata Technologies \n8:45 a.m. – 9:15 a.m. | Opening Remarks – Valentina VIDEVA\, VPGM North America Automotive Business\, Sensata Technologies \n9:15 a.m. – 9:45 a.m. | Guest Speaker – Pavel PAYANO\, State Senator\, Massachusetts \n9:45 a.m. – 10:30 a.m. | Operational Excellence | How & Lessons Learned – Erika McCLOSKY\, Director of Manufacturing and Technical Operations\, Amazon Robotics \n10:30 a.m. – 10:45 a.m. | Group Photo & Refreshment Break \n10:45 a.m. – 11:15 a.m. | Transformational Business Culture | Changing Work Environments – Raye WENTWORTH\, Director of Made Manufacturing\, New Balance Athletics\, Inc. \n11:15 a.m. – 11:45 a.m. | Panel Discussion: Don’t Just Lean In – Be Disruptive!  – Moderated by Pat KENT\, General Manager\, DELL | Storage Solutions & Manufacturing Operations. \nOur panelists include Bonnie PERKINS\, Senior Director of Operational Excellence and Continuous Improvement\, ReciBioPharm\, Raye WENTWORTH\, Director of Made Manufacturing\, and Alice MARTINS\, Vice President / General Manager – Industrial Solutions Business\, Sensata Technologies \n11:45 a.m. – 12:00 p.m. | Closing Remarks – Karen SMITH\, Division President\, Evident Industrial \n12:00 p.m. – 1:00 p.m. | Plant Tours\, Hosted by Sensata Technologies \n\n\n\n\n  \n\n\n\n\nRegister Here
URL:https://massmep.org/event/wim-massachusetts-empower-2023-development-for-new-growth/
LOCATION:Sensata Technologies\, 529 Pleasant St.\, Attleboro\, 02703\, United States
ATTACH;FMTTYPE=image/png:https://massmep.org/wp-content/uploads/2024/08/Untitled-1200-x-627-px-1-8YJJcD.tmp_.png
END:VEVENT
BEGIN:VEVENT
DTSTART;TZID=America/New_York:20231006T083000
DTEND;TZID=America/New_York:20231006T160000
DTSTAMP:20260421T122314
CREATED:20240828T175948Z
LAST-MODIFIED:20240828T183837Z
UID:10000891-1696581000-1696608000@massmep.org
SUMMARY:MilliporeSigma: Manufacturing Day
DESCRIPTION:MilliporeSigma: Manufacturing Day – Danvers\nTour our MilliporeSigma Danvers Manufacturing site and learn about their single use systems and filtration devices to enable the production of COVID-19 vaccines and other life saving therapies. Meet MOBI their new 6-axis automated robot! Meet the engineers and learn all the aspects of what it’s like to work in modern day manufacturing. Live Demonstrations and hands on demos. \n  \nRegister Here\n 
URL:https://massmep.org/event/milliporesigma-manufacturing-day/
LOCATION:MilliporeSigma\, 17 Cherry Hill Drive\, Danvers\, United States
ATTACH;FMTTYPE=image/png:https://massmep.org/wp-content/uploads/2024/08/MFG-Day-image-KvQIOW.tmp_.png
END:VEVENT
BEGIN:VEVENT
DTSTART;TZID=America/New_York:20230613T090000
DTEND;TZID=America/New_York:20230613T150000
DTSTAMP:20260421T122314
CREATED:20240828T175909Z
LAST-MODIFIED:20240828T183832Z
UID:10000872-1686646800-1686668400@massmep.org
SUMMARY:Broadband & Digital Equity Summit
DESCRIPTION:Internet for All: Broadband & Digital Equity Summit\nThe Executive Office of Economic Development\, Massachusetts Broadband Institute\, and the National Telecommunications and Information Administration invite you to the Internet for All: Massachusetts Broadband & Digital Equity Summit in Worcester. \nThis day long workshop will bring together critical stakeholders in Massachusetts from the federal\, state\, tribal\, and local governments\, industry\, and other key collaborators to discuss coordination on broadband efforts as the state prepares to receive significant broadband funds from the Infrastructure Investment and Jobs Act. \nConnecting all people in Massachusetts to affordable\, reliable high-speed internet is critical to our economic stability and this event will provide an opportunity for us to discuss ways we can work together to efficiently and effectively utilize these federal dollars to the maximum extent. Check back here for proposed agenda topics. \nAdditional Details \nThere is no fee to attend this event. Lunch will be provided. If you have any special dietary needs\, please contact Julia Pulidindi at (202) 748-7878 or jpulidindi@ntia.gov by Friday\, June 2\, 2023. \nUpon request\, accommodations for individuals with disabilities will be provided by calling (202) 748-7878 or emailing jpulidindi@ntia.gov by Friday\, June 2\, 2023. \nAlso upon request\, voice interpretation services will be made available by contacting Julia Pulidindi at (202) 748-7878 or jpulidindi@ntia.gov by Friday\, June 2\, 2023. \nRegister Here
URL:https://massmep.org/event/broadband-digital-equity-summit/
ATTACH;FMTTYPE=image/jpeg:https://massmep.org/wp-content/uploads/2024/09/MassMEP_BlogCover.jpg
END:VEVENT
BEGIN:VEVENT
DTSTART;TZID=America/New_York:20230608T100000
DTEND;TZID=America/New_York:20230608T110000
DTSTAMP:20260421T122314
CREATED:20240828T175905Z
LAST-MODIFIED:20240828T183830Z
UID:10000866-1686218400-1686222000@massmep.org
SUMMARY:CONNEX Massachusetts Registration & Training Session
DESCRIPTION:The session is created for Massachusetts Manufacturers that are interested in joining the CONNEX Supply Chain Database. If you are new to the platform MassMEP representatives will be live to get you registered\, walk you through the features of the platform\, and answer questions. \nSession times and dates are listed in the MassMEP workshop calendar. Click the link on your preferred date to join the live session\, no registration necessary. Manufacturers will only need to attend one training session. \nThrough the MassMEP partnership\, a lifetime CONNEX Massachusetts subscription is available at no cost for all Massachusetts Manufacturers. To join the CONNEX Marketplace National Database account holders will receive a promotion code that equates to an annual savings of $500/year. This offer is valid through June 13\, 2023. \nClick here to join
URL:https://massmep.org/event/connex-massachusetts-registration-training-session-7/
ATTACH;FMTTYPE=image/jpeg:https://massmep.org/wp-content/uploads/2024/09/MassMEP_BlogCover.jpg
END:VEVENT
BEGIN:VEVENT
DTSTART;TZID=America/New_York:20221013T140000
DTEND;TZID=America/New_York:20221013T140000
DTSTAMP:20260421T122314
CREATED:20240828T175820Z
LAST-MODIFIED:20240828T183820Z
UID:10000821-1665669600-1665669600@massmep.org
SUMMARY:How Video Marketing Is Getting More Eyes On U.S. Manufacturers
DESCRIPTION:How Video Marketing Is Getting More Eyes On U.S. Manufacturers \nLooking to build your bottom line through new export sales? Please join us in celebrating Manufacturing Month 2022. The webinar will feature accomplished small business manufacturers sharing insight that can help you grow your company’s international sales. \nThis free webinar will also feature trade experts to provide an overview of federal government tools\, resources\, and services available to support U.S. companies of all sizes. \nYou’ll also hear from manufacturers who are successful exporters and learn how they are using video marketing strategies to promote their products. \n“Made in the USA” is a mark of quality recognized worldwide. Take advantage of the fact that more than 95 percent of the world’s consumers live outside the United States. Learn about strategies and U.S. government resources that can help you grow globally. \nRegister Here\n \n 
URL:https://massmep.org/event/how-video-marketing-is-getting-more-eyes-on-u-s-manufacturers/
LOCATION:Zoom
ATTACH;FMTTYPE=image/jpeg:https://massmep.org/wp-content/uploads/2024/09/MassMEP_BlogCover.jpg
END:VEVENT
BEGIN:VEVENT
DTSTART;TZID=America/New_York:20221012T120000
DTEND;TZID=America/New_York:20221012T160000
DTSTAMP:20260421T122314
CREATED:20240828T175830Z
LAST-MODIFIED:20240828T183823Z
UID:10000832-1665576000-1665590400@massmep.org
SUMMARY:INVENTORY CONTROL MANAGEMENT 101
DESCRIPTION:Improve your bottom line with a better understanding of how to measure and control your inventory.\nInventory is a key asset of every manufacturing and distribution company\, but it is often overlooked or poorly managed. \nWho Should Attend\nAnyone who has a role in managing and controlling inventory: Managers\, buyers and purchasers\, production staff\, accounting and finance staff\, and those who work in distribution and warehousing. \nOpen to Rhode Island manufacturing companies/employees only. \nWhy Attend\nA foundation in basic inventory management helps you control this key balance sheet item. Learn how to maintain enough inventory to meet customer service levels and ensure smooth production – without letting it become a drag on your company’s capital and income. \n(We hosted an info session on Inventory Control in the fall of 2021. Watch the webinar to get a “taste” of this 101 class and some tools you can use immediately for inventory control.) \nWhat to Expect\nOctober 12\, 12pm to 4pm — Session 1. \nOctober 13\, 12pm to 4pm — Session 2. \nTwo 4-hour interactive online classes\, in which you’ll learn proven methods to identify and measure inventory costs\, and start to identify practices that you could implement to improve your operations. \nDiscover: \n\nHow to identify and define inventory\nWays to classify and segment your inventory\nThe basics in counting and verifying inventory\nCommon control methods\nHow to measure and track costs\nDifferent inventory measurement and reporting methods\nDifferent management approaches \, including how to determine effective inventory levels and reorder triggers.\n\nCost: $350/person\nNo more than 3 students from any one RI manufacturing company. Students will earn a certificate. \nAfter clicking “Sign Me Up\,” below\, you will receive instructions on how to complete payment.  \nAbout the Trainer\nPolaris MEP Project Manager Ted Kennedy has 35 years of experience within Operations and Engineering in the metalworking\, toy manufacturing\, and automotive manufacturing industries. He is a Lean leader with expertise in streamlining manufacturing\, warehouse/distribution\, retail packaging\, and office processes. \nAmong other achievements\, Ted created plant layouts for new 30\,000 Sq. Ft. and 120\,000 Sq. Ft. buildings and modified building layouts on three other facilities consolidating manufacturing and warehouse space by 30% to 40% using Lean tools. He also helped design a bar code system for use in manufacturing and shipping which was in use for over 15 years. He is a Six Sigma Black Belt. \nRegister Here
URL:https://massmep.org/event/inventory-control-management-101/
ATTACH;FMTTYPE=image/png:https://massmep.org/wp-content/uploads/2024/08/polaris-Lgs75r.tmp_.png
END:VEVENT
BEGIN:VEVENT
DTSTART;TZID=America/New_York:20221007T100000
DTEND;TZID=America/New_York:20221007T140000
DTSTAMP:20260421T122314
CREATED:20240828T175822Z
LAST-MODIFIED:20240828T183820Z
UID:10000823-1665136800-1665151200@massmep.org
SUMMARY:L.S. Starrett Company: Manufacturing Day
DESCRIPTION:The L. S. Starrett Company is the last manufacturer of a full range of precision measuring instruments left in the United States and we continue to build the finest measuring tools in the world here in Athol\, where the company was originally founded. We welcome you to take a tour of the historic Starrett factory. \nRegister Here
URL:https://massmep.org/event/l-s-starrett-company-manufacturing-day/
ATTACH;FMTTYPE=image/jpeg:https://massmep.org/wp-content/uploads/2024/09/MassMEP_BlogCover.jpg
END:VEVENT
BEGIN:VEVENT
DTSTART;TZID=America/New_York:20221007T090000
DTEND;TZID=America/New_York:20221007T170000
DTSTAMP:20260421T122314
CREATED:20240828T175823Z
LAST-MODIFIED:20240828T183820Z
UID:10000824-1665133200-1665162000@massmep.org
SUMMARY:AccuRounds: 2022 Tours are back!
DESCRIPTION:Many exciting Advanced Manufacturing careers are available for those who enjoy challenging their minds and solving problems. Come in on Manufacturing Day for a 1 1/2 hour visit consisting of a short presentation\, tour\, Q & A. \nOr you may opt for access to links for a virtual tour and brief videos showcasing new technology and see how the disciplines of STEM are the foundational elements interwoven throughout our work environment. \nRegister Here
URL:https://massmep.org/event/accurounds-2022-tours-are-back/
ATTACH;FMTTYPE=image/jpeg:https://massmep.org/wp-content/uploads/2024/09/MassMEP_BlogCover.jpg
END:VEVENT
BEGIN:VEVENT
DTSTART;TZID=America/New_York:20221007T083000
DTEND;TZID=America/New_York:20221007T173000
DTSTAMP:20260421T122314
CREATED:20240828T175814Z
LAST-MODIFIED:20240828T183819Z
UID:10000817-1665131400-1665163800@massmep.org
SUMMARY:Digital Skills for Manufacturing Careers
DESCRIPTION:For un and under employed Berkshire County Residents – Dull\, Dirty\, Dangerous: From The Three Ds to 3D \nIf you are searching for a new career\, do not overlook manufacturing. Today’s employers are investing in fresh talent and modern technologies to bring new\, innovative products to market. YOU could be the talent they have been waiting for. A continental breakfast and lunch will be provided.  \n Modern Technologies Covered in Course:  \n¥ Augmented Reality & Virtual Reality (AR/VR) for Manufacturing  \n¥ Microsoft Excel for Manufacturing  \n¥ CRM (Customer Relationship Management) & ERP (Enterprise Resource Planning) software  \n¥ 3D Printing  \n¥ Computer Aided Design (CAD)  \n  \n*To apply\, please hit the registration button below\, download the PDF\, and send your application to sara@masshireberkshire.com Fax: (413) 448-2801  Once your application is received\, you will be contacted for a phone interview. We look forward to hosting you at this fun and exciting course! \n \nRegister Here
URL:https://massmep.org/event/digital-skills-for-manufacturing-careers/
LOCATION:Berkshire Innovation Center (BIC)\, 45 Woodlawn Ave\, Pittsfield\, MA\, 01201\, United States
ATTACH;FMTTYPE=image/jpeg:https://massmep.org/wp-content/uploads/2024/09/MassMEP_BlogCover.jpg
END:VEVENT
BEGIN:VEVENT
DTSTART;TZID=America/New_York:20221007T000000
DTEND;TZID=America/New_York:20221007T235900
DTSTAMP:20260421T122314
CREATED:20240828T175823Z
LAST-MODIFIED:20240828T183820Z
UID:10000825-1665100800-1665187140@massmep.org
SUMMARY:Machine Incorporated: MFG Day 2022 Plant Tours
DESCRIPTION:Machine Incorporated invites any and all interested in the manufacturing industry to tour our shop during the month of October! We are a production aerospace CNC machine shop and we utilize automation and robotics to help increase productivity. Manufacturing is an integral part of our economy and it is small shops like ours that keep this industry going. We look forward to meeting everyone and to share what we do! If there are any questions don’t hesitate to reach out! \nRegister Here
URL:https://massmep.org/event/machine-incorporated-mfg-day-2022-plant-tours/
LOCATION:Zoom
ATTACH;FMTTYPE=image/jpeg:https://massmep.org/wp-content/uploads/2024/09/MassMEP_BlogCover.jpg
END:VEVENT
BEGIN:VEVENT
DTSTART;TZID=America/New_York:20221006T083000
DTEND;TZID=America/New_York:20221006T140000
DTSTAMP:20260421T122314
CREATED:20240828T175814Z
LAST-MODIFIED:20240828T183819Z
UID:10000816-1665045000-1665064800@massmep.org
SUMMARY:Manufacturing Day with Ware High School
DESCRIPTION:Students from Ware Jr/Sr High School will travel to Quabbin Wire & Cable Co\, Sanderson MacLeod\, and Flexcon. Each company will provide information on their company and guide the students through a tour of their facility. The focus will be on career opportunities available to enter the workforce upon graduation\, overview of those jobs (with employees speaking with them)\, pay scale and advancement opportunities through effort\, motivation\, commitment\, training\, etc. \nBeginning at 8:30\, students will have a little over an hour at each facility with lunch hosted at Flexcon. \nEach company is very excited about hosting a live event\, engaging students in career opportunities and promoting the importance of manufacturing in their local area.
URL:https://massmep.org/event/manufacturing-day-with-ware-high-school/
ATTACH;FMTTYPE=image/png:https://massmep.org/wp-content/uploads/2024/08/quabbin-logo-AvMce3.tmp_.png
END:VEVENT
BEGIN:VEVENT
DTSTART;TZID=America/New_York:20220916T100000
DTEND;TZID=America/New_York:20220916T150000
DTSTAMP:20260421T122314
CREATED:20240828T175749Z
LAST-MODIFIED:20240828T183815Z
UID:10000804-1663322400-1663340400@massmep.org
SUMMARY:Massachusetts Manufacturing Mash-Up 2022
DESCRIPTION:  \nJoin us at Mash-Up\, on September 16\, 2022 as we bring innovative people from around the Commonwealth to network\, solve industry challenges\, and celebrate manufacturing in Mass! \nWhat: Mash-UP\nWhen: September 16th from 10 AM – 3 PM\nWhere: Polar Park\, Worcester\nHow: Click the registration button below! \nRegister Here\n  \n 
URL:https://massmep.org/event/massachusetts-manufacturing-mash-up-2022/
LOCATION:Polar Park\, 100 Madison Street\, Worcester\, 01608\, United States
ATTACH;FMTTYPE=image/jpeg:https://massmep.org/wp-content/uploads/2024/09/MassMEP_BlogCover.jpg
END:VEVENT
BEGIN:VEVENT
DTSTART;TZID=America/New_York:20220727T110000
DTEND;TZID=America/New_York:20220727T113000
DTSTAMP:20260421T122314
CREATED:20240828T175748Z
LAST-MODIFIED:20240828T183815Z
UID:10000803-1658919600-1658921400@massmep.org
SUMMARY:Exploring Workforce Training Grants with AIM HR Solutions & MassMEP
DESCRIPTION:Each year\, Massachusetts awards millions of dollars in grant money to Massachusetts businesses through the Workforce Training Fund (WTFP). Many companies are unfamiliar with the General Grant or Express Grant Programs funded by the Workforce Training Fund Program. It’s time for your organization to take advantage of this funding and achieve business growth\, increased productivity\, and employee retention. \nJoin AIM HR Solutions & MassMEP grant experts as they answer the most asked questions surrounding the grant programs\, such as: \n\nDo I qualify\, and how do I get started?\nWhich training topics are eligible for grant funding?\nWhat are some best practices and tips for getting my application approved?\nHow long does the process take?\nHow do I build a training plan that meets my organization’s needs?\n\nRegister Here
URL:https://massmep.org/event/exploring-workforce-training-grants-with-aim-hr-solutions-massmep/
LOCATION:Zoom
ATTACH;FMTTYPE=image/png:https://massmep.org/wp-content/uploads/2024/08/Screen-Shot-2022-06-15-at-2.39.23-PM-4tJ58g.tmp_.png
END:VEVENT
BEGIN:VEVENT
DTSTART;TZID=America/New_York:20220624T133000
DTEND;TZID=America/New_York:20220624T133000
DTSTAMP:20260421T122314
CREATED:20240828T175747Z
LAST-MODIFIED:20240828T183815Z
UID:10000802-1656077400-1656077400@massmep.org
SUMMARY:Countdown to CMMC Compliance
DESCRIPTION:CMMC is less than a year away from becoming a rule. On June 24th\, organizations in the defense industrial base (DIB) will have the chance to get guidance and clarity from top DoD officials on program timelines and their responsibility to comply with CMMC and DFARS 7012. \nJoin PreVeil and some of the nation’s largest Manufacturing Extension Partnerships (MEPs) as they host an important conversation with top DoD officials Mr David McKeown (DoD CISO) and Ms Stacy Bostjanick (CMMC\,Director). These speakers will provide guidance on: \n\nImportant CMMC program updates\nExpected changes to program timelines\nContractor obligations under DFARS 7012\n\nBy attending this webinar\, DIB organizations will understand changes to the CMMC program\, how they can best prepare themselves and the importance of getting their compliance programs started. Sign up today and reserve your seat. \n  \nRegister Here\n  \n \n \n 
URL:https://massmep.org/event/countdown-to-cmmc-compliance/
LOCATION:Zoom
ATTACH;FMTTYPE=image/jpeg:https://massmep.org/wp-content/uploads/2024/09/MassMEP_BlogCover.jpg
END:VEVENT
BEGIN:VEVENT
DTSTART;TZID=America/New_York:20220615T110000
DTEND;TZID=America/New_York:20220615T120000
DTSTAMP:20260421T122314
CREATED:20240828T175731Z
LAST-MODIFIED:20240828T183814Z
UID:10000795-1655290800-1655294400@massmep.org
SUMMARY:Human Capital Barometrics Information Session
DESCRIPTION:Human Capital Barometrics\, not a college science class! \nIntroducing a new tool for workforce information – Human Capital Barometrics. \nWhy do YOU want HCB?\nIt can be used to measure your current conditions and help you plan for the future. \nWhat are the benefits?\nThis can improve hiring\, retention\, and help you make future investments. \nWith speakers from both Polaris MEP and VMEC speaking on their own experiences implementing HCB\, this is open to all manufacturers in MA\, RI\, and VT. \nJoin us for an hour of the who\, what\, where\, when and why of HCB and how it will work in your organization. \nPartners: \n \n  \n  \n  \n  \nRegister Here
URL:https://massmep.org/event/human-capital-barometrics-information-session/
LOCATION:Zoom
ATTACH;FMTTYPE=image/jpeg:https://massmep.org/wp-content/uploads/2024/09/MassMEP_BlogCover.jpg
END:VEVENT
BEGIN:VEVENT
DTSTART;TZID=America/New_York:20220505T150000
DTEND;TZID=America/New_York:20220505T170000
DTSTAMP:20260421T122314
CREATED:20240828T175731Z
LAST-MODIFIED:20240828T183814Z
UID:10000794-1651762800-1651770000@massmep.org
SUMMARY:Student Showcase: Manufacturing Engineering & Technology
DESCRIPTION:Hiring next generation talent for your organization?\nIf you are responsible for hiring Manufacturing\, Engineering\, or Technology candidates for your organization\, this is a great opportunity for your to connect with the talented students of Carver High’s Innovation Pathways Program. \n\n\nMeet students 1:1\,  see current projects\, & learn about skills and credentials they are acquiring.\n\n\n\n\nSpeak to educators and influence the curriculum being developed.\n\n\n\n\nMake contact with students interested in internships and full time positions.\n\n\nDrop-in anytime between 3:00 PM – 5:00 PM\nCarver Middle High Schools MET Wing \nFree food and refreshments will be served by Carver High’s award-winning Culinary Arts program.\nThe event is free to attend\, click below to RSVP today. \n  \nAny questions please reach out to Meredith Erickson via email ericksonm@carver.org or call 508-866-6172 \nRegister Here
URL:https://massmep.org/event/student-showcase-manufacturing-engineering-technology/
ATTACH;FMTTYPE=image/jpeg:https://massmep.org/wp-content/uploads/2024/09/MassMEP_BlogCover.jpg
END:VEVENT
END:VCALENDAR