BEGIN:VCALENDAR
VERSION:2.0
PRODID:-//Mass MEP - ECPv6.15.20//NONSGML v1.0//EN
CALSCALE:GREGORIAN
METHOD:PUBLISH
X-ORIGINAL-URL:https://massmep.org
X-WR-CALDESC:Events for Mass MEP
REFRESH-INTERVAL;VALUE=DURATION:PT1H
X-Robots-Tag:noindex
X-PUBLISHED-TTL:PT1H
BEGIN:VTIMEZONE
TZID:America/New_York
BEGIN:DAYLIGHT
TZOFFSETFROM:-0500
TZOFFSETTO:-0400
TZNAME:EDT
DTSTART:20210314T070000
END:DAYLIGHT
BEGIN:STANDARD
TZOFFSETFROM:-0400
TZOFFSETTO:-0500
TZNAME:EST
DTSTART:20211107T060000
END:STANDARD
BEGIN:DAYLIGHT
TZOFFSETFROM:-0500
TZOFFSETTO:-0400
TZNAME:EDT
DTSTART:20220313T070000
END:DAYLIGHT
BEGIN:STANDARD
TZOFFSETFROM:-0400
TZOFFSETTO:-0500
TZNAME:EST
DTSTART:20221106T060000
END:STANDARD
BEGIN:DAYLIGHT
TZOFFSETFROM:-0500
TZOFFSETTO:-0400
TZNAME:EDT
DTSTART:20230312T070000
END:DAYLIGHT
BEGIN:STANDARD
TZOFFSETFROM:-0400
TZOFFSETTO:-0500
TZNAME:EST
DTSTART:20231105T060000
END:STANDARD
END:VTIMEZONE
BEGIN:VEVENT
DTSTART;TZID=America/New_York:20220222T140000
DTEND;TZID=America/New_York:20220222T150000
DTSTAMP:20260421T111316
CREATED:20240828T175702Z
LAST-MODIFIED:20240828T183809Z
UID:10000777-1645538400-1645542000@massmep.org
SUMMARY:The Secret to Improving Your Leadership... Really
DESCRIPTION:  \n\n\n  \n  \n  \n  \n  \n  \nWhy do so few leadership improvement efforts produce the results that leaders and business sponsors want? What is in the way? Through decades of working with manufacturers to help them improve their companies and leadership\, we’ve discovered that there are five common obstacles to leadership improvement that must be overcome in order to achieve the desired results. \nWe’ve also developed a process that will help any organization improve their leaders – and not just a little improvement\, but the “who are you and what have you done with my old leader” type of improvement that we’re all after in our development efforts. \nJoin Keith Gammill from the Arkansas Manufacturing Extension Partnership as he discusses: \n1. The five common obstacles to leadership improvement and a methodology to overcome them\n2. The importance of vision and what it does for your leadership\n3. How to apply the Toyota Kata improvement methodology to leadership improvement\n4. Why so many confuse management for leadership and why this matters\n5. The Transformational Leadership Improvement process through the lens of a frontline leader\n6. How to improve your workplace resilience \nThe MEP National Network will host this workforce webinar with Quality Digest. \nFor more information\, email jennifer.rosa@nist.gov. \nRegister Here
URL:https://massmep.org/event/the-secret-to-improving-your-leadership-really/
LOCATION:Zoom
ATTACH;FMTTYPE=image/jpeg:https://massmep.org/wp-content/uploads/2024/09/MassMEP_BlogCover.jpg
END:VEVENT
END:VCALENDAR