BEGIN:VCALENDAR
VERSION:2.0
PRODID:-//Mass MEP - ECPv6.15.20//NONSGML v1.0//EN
CALSCALE:GREGORIAN
METHOD:PUBLISH
X-WR-CALNAME:Mass MEP
X-ORIGINAL-URL:https://massmep.org
X-WR-CALDESC:Events for Mass MEP
REFRESH-INTERVAL;VALUE=DURATION:PT1H
X-Robots-Tag:noindex
X-PUBLISHED-TTL:PT1H
BEGIN:VTIMEZONE
TZID:America/New_York
BEGIN:DAYLIGHT
TZOFFSETFROM:-0500
TZOFFSETTO:-0400
TZNAME:EDT
DTSTART:20180311T070000
END:DAYLIGHT
BEGIN:STANDARD
TZOFFSETFROM:-0400
TZOFFSETTO:-0500
TZNAME:EST
DTSTART:20181104T060000
END:STANDARD
BEGIN:DAYLIGHT
TZOFFSETFROM:-0500
TZOFFSETTO:-0400
TZNAME:EDT
DTSTART:20190310T070000
END:DAYLIGHT
BEGIN:STANDARD
TZOFFSETFROM:-0400
TZOFFSETTO:-0500
TZNAME:EST
DTSTART:20191103T060000
END:STANDARD
BEGIN:DAYLIGHT
TZOFFSETFROM:-0500
TZOFFSETTO:-0400
TZNAME:EDT
DTSTART:20200308T070000
END:DAYLIGHT
BEGIN:STANDARD
TZOFFSETFROM:-0400
TZOFFSETTO:-0500
TZNAME:EST
DTSTART:20201101T060000
END:STANDARD
BEGIN:DAYLIGHT
TZOFFSETFROM:-0500
TZOFFSETTO:-0400
TZNAME:EDT
DTSTART:20210314T070000
END:DAYLIGHT
BEGIN:STANDARD
TZOFFSETFROM:-0400
TZOFFSETTO:-0500
TZNAME:EST
DTSTART:20211107T060000
END:STANDARD
BEGIN:DAYLIGHT
TZOFFSETFROM:-0500
TZOFFSETTO:-0400
TZNAME:EDT
DTSTART:20220313T070000
END:DAYLIGHT
BEGIN:STANDARD
TZOFFSETFROM:-0400
TZOFFSETTO:-0500
TZNAME:EST
DTSTART:20221106T060000
END:STANDARD
BEGIN:DAYLIGHT
TZOFFSETFROM:-0500
TZOFFSETTO:-0400
TZNAME:EDT
DTSTART:20230312T070000
END:DAYLIGHT
BEGIN:STANDARD
TZOFFSETFROM:-0400
TZOFFSETTO:-0500
TZNAME:EST
DTSTART:20231105T060000
END:STANDARD
BEGIN:DAYLIGHT
TZOFFSETFROM:-0500
TZOFFSETTO:-0400
TZNAME:EDT
DTSTART:20240310T070000
END:DAYLIGHT
BEGIN:STANDARD
TZOFFSETFROM:-0400
TZOFFSETTO:-0500
TZNAME:EST
DTSTART:20241103T060000
END:STANDARD
END:VTIMEZONE
BEGIN:VEVENT
DTSTART;TZID=America/New_York:20230404T143000
DTEND;TZID=America/New_York:20230404T153000
DTSTAMP:20260421T104921
CREATED:20240828T175856Z
LAST-MODIFIED:20240828T183829Z
UID:10000859-1680618600-1680622200@massmep.org
SUMMARY:PreVeil Webinar: DFARS & CMMC Program Updates
DESCRIPTION:Join PreVeil for an exclusive webinar on April 4th at 2:30PM ET with Stacy Bostjanick\, DoD’s Director for CMMC as she provides an update on DFARS & CMMC Programs. She will be joined by Marci Womack (Dir. Federal Practice @ authorized C3PAO Schellman) and Scott Singer (CEO @ authorized C3PAO CyberNINES) who will provide contractors with insights on facilitating their compliance efforts. This esteemed group will look at: \n\nPreparations all contractors should take now to address DFARS and NIST 800-171 compliance obligations\nThe ramp up of DFARS 7012\, 7019 and 7020 enforcement\nNecessary steps for building a DFARS and CMMC compliance program\n\nIf you have a question you would like us to ask Ms. Bostjanick in the webinar\, please submit it when you sign up. \n  \n  \nRegister Here
URL:https://massmep.org/event/preveil-webinar-dfars-cmmc-program-updates/
LOCATION:Great Awakenings Brewery\, 77 Mill St\, Westfield\, MA\, United States
ATTACH;FMTTYPE=image/jpeg:https://massmep.org/wp-content/uploads/2024/09/MassMEP_BlogCover.jpg
END:VEVENT
BEGIN:VEVENT
DTSTART;TZID=America/New_York:20200303T110000
DTEND;TZID=America/New_York:20200303T130000
DTSTAMP:20260421T104921
CREATED:20240828T175405Z
LAST-MODIFIED:20240828T183733Z
UID:10000611-1583233200-1583240400@massmep.org
SUMMARY:Cybersecurity Maturity Model Certification (CMMC) Lunch & Learn
DESCRIPTION:Manufacturers in the DoD supply chain are required to have adequate information security measures in place to protect Controlled Unclassified Information (CUI). Starting in 2020\, independent auditors will be assessing manufacturers’ security posture\, which will determine which contracts they can bid. This session will provide an overview of these requirements and the various options available to ensure compliance with them. \nRegister Here\n  \nThis communication was prepared under contract with the State of Vermont\, as fiscal agent for the New England Collaborative\, \nwith financial support from the Office of Economic Adjustment\, Department of Defense. The content reflects the views of the \nNew England Collaborative and does not necessarily reflect the views of the Office of Economic Adjustment\, the U.S. Department of Defense\, \nor the participating states.
URL:https://massmep.org/event/cybersecurity-maturity-model-certification-cmmc-lunch-learn/
LOCATION:MassMEP\, 27A Midstate Drive\, Auburn\, MA\, 01501\, United States
ATTACH;FMTTYPE=image/jpeg:https://massmep.org/wp-content/uploads/2024/09/MassMEP_BlogCover.jpg
END:VEVENT
BEGIN:VEVENT
DTSTART;TZID=America/New_York:20190215T083000
DTEND;TZID=America/New_York:20190215T103000
DTSTAMP:20260421T104921
CREATED:20240828T215300Z
LAST-MODIFIED:20240903T190602Z
UID:10000596-1550219400-1550226600@massmep.org
SUMMARY:Marketing & Sales Consortium Grant Info Session
DESCRIPTION:MassMEP and The Greater Westfield Chamber invite you to attend an information session regarding a collaborative Marketing and Sales 7-part training\, fully grant funded\, and with area businesses such as Mestek Inc. This consortium is designed to equip companies with the tools\, tactics and plans needed to bring your company to the next level of sales and revenue. This offering is ideal for manufacturers looking to accelerate their sales growth. \nJoin us at the information session to: \n\nLearn about the 7-part workshop included in the MassMEP’s Marketing & Sales training consortium\nJoin Mestek in a collaborative to develop new markets\, a marketing strategy\, and branding materials\, and to overhaul your lead generation process.\nLearn how MassMEP can help you prepare and apply for the training funds through the Workforce Training Fund’s General Grant Program for consortium\nMeet fellow Westfield Chamber Members\n\nWhat is a consortium grant? \nA consortium grant provides small to medium size companies an approach to continuous improvement training and manufacturing skills development with minimal cost\, time and administrative responsibilities. \nDid you know? Each year the Commonwealth of Massachusetts awards millions of dollars in grant money to Massachusetts businesses under the Workforce Training Fund Program (WTFP).  Why not be one of the next companies? \nRegister Here
URL:https://massmep.org/event/marketing-sales-consortium-grant-info-session/
ATTACH;FMTTYPE=image/jpeg:https://massmep.org/wp-content/uploads/2024/09/MassMEP_BlogCover.jpg
END:VEVENT
END:VCALENDAR