BEGIN:VCALENDAR
VERSION:2.0
PRODID:-//Mass MEP - ECPv6.15.20//NONSGML v1.0//EN
CALSCALE:GREGORIAN
METHOD:PUBLISH
X-ORIGINAL-URL:https://massmep.org
X-WR-CALDESC:Events for Mass MEP
REFRESH-INTERVAL;VALUE=DURATION:PT1H
X-Robots-Tag:noindex
X-PUBLISHED-TTL:PT1H
BEGIN:VTIMEZONE
TZID:America/New_York
BEGIN:DAYLIGHT
TZOFFSETFROM:-0500
TZOFFSETTO:-0400
TZNAME:EDT
DTSTART:20220313T070000
END:DAYLIGHT
BEGIN:STANDARD
TZOFFSETFROM:-0400
TZOFFSETTO:-0500
TZNAME:EST
DTSTART:20221106T060000
END:STANDARD
BEGIN:DAYLIGHT
TZOFFSETFROM:-0500
TZOFFSETTO:-0400
TZNAME:EDT
DTSTART:20230312T070000
END:DAYLIGHT
BEGIN:STANDARD
TZOFFSETFROM:-0400
TZOFFSETTO:-0500
TZNAME:EST
DTSTART:20231105T060000
END:STANDARD
BEGIN:DAYLIGHT
TZOFFSETFROM:-0500
TZOFFSETTO:-0400
TZNAME:EDT
DTSTART:20240310T070000
END:DAYLIGHT
BEGIN:STANDARD
TZOFFSETFROM:-0400
TZOFFSETTO:-0500
TZNAME:EST
DTSTART:20241103T060000
END:STANDARD
END:VTIMEZONE
BEGIN:VEVENT
DTSTART;TZID=America/New_York:20231025T153000
DTEND;TZID=America/New_York:20231025T193000
DTSTAMP:20260421T183259
CREATED:20240828T175927Z
LAST-MODIFIED:20240905T193256Z
UID:10000882-1698247800-1698262200@massmep.org
SUMMARY:FORGE Fall Startup Showcase
DESCRIPTION:  \nAn exciting evening of networking\, demonstrations of prototypes\, and startup pitch contests with non-dilutive funding prizes awarded. \n\n\n\n\nJoin us for the FORGE Fall Startup Showcase at 3DExperience Lab at Dassault Systemes – 175 Wyman Street\, Earth Building\, Waltham. This will be an exciting evening of networking\, startup tabletop demonstrations\, a startup pitch competition\, and prizes awarded. Come meet the innovators\, see the latest prototypes and products\, network with FORGE sponsors\, ecosystem collaborators\, and cast your vote for the winning startups! \n  \n\n\n\n\nRegister Here
URL:https://massmep.org/event/forge-fall-startup-showcase/
LOCATION:Dassault Systemes 3DExperience Lab\, 185 Wyman Street\, Waltham\, 02451\, United States
ATTACH;FMTTYPE=image/png:https://massmep.org/wp-content/uploads/2024/08/Forge-Fall-Startup.png
END:VEVENT
END:VCALENDAR