BEGIN:VCALENDAR
VERSION:2.0
PRODID:-//Mass MEP - ECPv6.15.20//NONSGML v1.0//EN
CALSCALE:GREGORIAN
METHOD:PUBLISH
X-ORIGINAL-URL:https://massmep.org
X-WR-CALDESC:Events for Mass MEP
REFRESH-INTERVAL;VALUE=DURATION:PT1H
X-Robots-Tag:noindex
X-PUBLISHED-TTL:PT1H
BEGIN:VTIMEZONE
TZID:America/New_York
BEGIN:DAYLIGHT
TZOFFSETFROM:-0500
TZOFFSETTO:-0400
TZNAME:EDT
DTSTART:20210314T070000
END:DAYLIGHT
BEGIN:STANDARD
TZOFFSETFROM:-0400
TZOFFSETTO:-0500
TZNAME:EST
DTSTART:20211107T060000
END:STANDARD
BEGIN:DAYLIGHT
TZOFFSETFROM:-0500
TZOFFSETTO:-0400
TZNAME:EDT
DTSTART:20220313T070000
END:DAYLIGHT
BEGIN:STANDARD
TZOFFSETFROM:-0400
TZOFFSETTO:-0500
TZNAME:EST
DTSTART:20221106T060000
END:STANDARD
BEGIN:DAYLIGHT
TZOFFSETFROM:-0500
TZOFFSETTO:-0400
TZNAME:EDT
DTSTART:20230312T070000
END:DAYLIGHT
BEGIN:STANDARD
TZOFFSETFROM:-0400
TZOFFSETTO:-0500
TZNAME:EST
DTSTART:20231105T060000
END:STANDARD
END:VTIMEZONE
BEGIN:VEVENT
DTSTART;TZID=America/New_York:20220324T110000
DTEND;TZID=America/New_York:20220324T120000
DTSTAMP:20260421T162500
CREATED:20240828T175709Z
LAST-MODIFIED:20240828T183810Z
UID:10000782-1648119600-1648123200@massmep.org
SUMMARY:"Re-Imagine" Your Business Processes With ERP
DESCRIPTION:When manufacturing companies decide they need a new ERP\, many make a mistake by first calling ERP vendors. A better way is to “re-imagine” their business processes the way they want them to work\, and translate that into the features they require in an ERP. Only then should they contact vendors\, and ask them to demonstrate that their ERP can do what they want it to do. \nThere is a best-practice process for how to do this\, as well as how to narrow down the vendor candidates from the ~60 in the market to a few that are appropriate\, and then to work with the chosen vendor to implement the system. This webinar will describe that process. \nRegister Here
URL:https://massmep.org/event/re-imagine-your-business-processes-with-erp/
ATTACH;FMTTYPE=image/jpeg:https://massmep.org/wp-content/uploads/2024/09/MassMEP_BlogCover.jpg
END:VEVENT
BEGIN:VEVENT
DTSTART;TZID=America/New_York:20220323T000000
DTEND;TZID=America/New_York:20220323T235900
DTSTAMP:20260421T162500
CREATED:20240828T175652Z
LAST-MODIFIED:20240828T183809Z
UID:10000775-1647993600-1648079940@massmep.org
SUMMARY:Design for Manufacturer Ability (DFMA) Workshop: Save the Date
DESCRIPTION:March 23 & 30\nAn impact heard around the “MERT” from 2021 was a need for Design for Manufacturer Ability (DFMA). Now as we are entering MERT 2.0\, and EDA Grant our of UMASS Lowell\, the time is right to put together a couple of workshops on this topic. Save the date for this initial workshop\, March 23 & 30\, four-hours each day. Please check back on the website for details and registration options.
URL:https://massmep.org/event/design-for-manufacturer-ability-dfma-workshop-save-the-date/
ATTACH;FMTTYPE=image/png:https://massmep.org/wp-content/uploads/2024/08/SaveTheDate-1-FehJ0A.tmp_.png
END:VEVENT
BEGIN:VEVENT
DTSTART;TZID=America/New_York:20220127T150000
DTEND;TZID=America/New_York:20220127T160000
DTSTAMP:20260421T162500
CREATED:20240828T175701Z
LAST-MODIFIED:20240828T183809Z
UID:10000776-1643295600-1643299200@massmep.org
SUMMARY:Manufacturers are you prepared for the impending Mandates?
DESCRIPTION:ETS Preparation Information SessionTwo-Part Series:January 27th; 3-4 PMFebruary 3rd; 3-4 PM\nIf you are prepared or are not\, this series is a must see and listen. Join us for a two part series on Navigating the Pandemic – A Guide to Implementing the ETS into your Business \nIt’s been a long three months as the controversial Emergency Temporary Standard has been tossed back and forth within our judicial system. But\, the dates have arrived under OSHA’s Emergency Temporary Standard for vaccine mandates and testing requirements for employers who have 100 or more employees. \nIf you still are struggling to get your process in place\, if you are unclear as to wear to begin or you need validation that you haven’t missed any of the critical components of the ETS and how to implement it\, you should attend this series.  \nThe dates are upon us and we need to move into compliance. As of January 10\, 2022 for all requirements of ETS except testing\, and by February 9\, 2022 ETS requirements for testing need to be in place. Citations for noncompliance with the ETS except testing becomes effective on January 10\, 2022 as does citations for noncompliance with testing on February 9\, 2022. \n In this series we will cover the following topics from the perspective of a safety professional not human resources. We will use OSHA’s power point on navigating the ETS and show you where to find the recorded webinar. We will provide you with templates\, power points\, handouts and other materials to assist you in getting your process created\, documents up to date and a plan to manage your program.  \n Topics  \n\nBackground and Summary of ETS\nWho is Exempt from ETS\nEmployer Policy on Vaccination\nDetermining Vaccination Status\nAcceptable Proof of Full or Partial Vaccination\nEmployer Determination of Vaccine Status Prior to ETS\nEmployers Must All for Vaccination Support\nTesting Requirements for Employees Who are NOT fully vaccinated\nCost of Testing\nExemption from Testing\nRecord of Testing Results\nEmployee Notification to Employer of COVID-19 Positive Status and Removal\nFace Coverings\nInformation to Provide to Employees\nRecord Keeping and Reporting COVID-10 Fatalities and Hospitalizations\nAvailably of Records\nAnd an overview of resources to include but not limited to;\n\nhttps://link.edgepilot.com/s/858eccc9/Sa564SuGuE6JYOuIIq_0Bg?u=https://www.osha.gov/coronavirus\nFact Sheet\nETS Summary\nCompliance assistance materials\n\nMandatory Vaccination Policy Template\nVaccination or Testing and Face Covering Template\n\n\nFAQs\nEnforcement policies and information\nMaterials Incorporated by Reference in 1910.501\n\n\n\nIsolation Guidance. COVID-19: Isolation If You Are Sick; Separate yourself from others if you have COVID-19\, updated February 18\, 2021\, IBR approved for ¤ 1910.501(h). This guidance provides steps to take when someone is experiencing COVID-19 symptoms and/or tested positive for COVID-19. \n\n\n\nWebinar by OSHA\n29 CR 1910 Subpart U\n\n\n\nRegister Here
URL:https://massmep.org/event/manufacturers-are-you-prepared-for-the-impending-mandates/
LOCATION:Hybrid: Zoom & MassMEP Auburn Location\, 27A Midstate Drive; Suite 200\, Auburn\, MA\, 01501\, United States
ATTACH;FMTTYPE=image/png:https://massmep.org/wp-content/uploads/2024/08/My-project-11-n8576S.tmp_.png
END:VEVENT
END:VCALENDAR