BEGIN:VCALENDAR
VERSION:2.0
PRODID:-//Mass MEP - ECPv6.15.20//NONSGML v1.0//EN
CALSCALE:GREGORIAN
METHOD:PUBLISH
X-WR-CALNAME:Mass MEP
X-ORIGINAL-URL:https://massmep.org
X-WR-CALDESC:Events for Mass MEP
REFRESH-INTERVAL;VALUE=DURATION:PT1H
X-Robots-Tag:noindex
X-PUBLISHED-TTL:PT1H
BEGIN:VTIMEZONE
TZID:America/New_York
BEGIN:DAYLIGHT
TZOFFSETFROM:-0500
TZOFFSETTO:-0400
TZNAME:EDT
DTSTART:20220313T070000
END:DAYLIGHT
BEGIN:STANDARD
TZOFFSETFROM:-0400
TZOFFSETTO:-0500
TZNAME:EST
DTSTART:20221106T060000
END:STANDARD
BEGIN:DAYLIGHT
TZOFFSETFROM:-0500
TZOFFSETTO:-0400
TZNAME:EDT
DTSTART:20230312T070000
END:DAYLIGHT
BEGIN:STANDARD
TZOFFSETFROM:-0400
TZOFFSETTO:-0500
TZNAME:EST
DTSTART:20231105T060000
END:STANDARD
BEGIN:DAYLIGHT
TZOFFSETFROM:-0500
TZOFFSETTO:-0400
TZNAME:EDT
DTSTART:20240310T070000
END:DAYLIGHT
BEGIN:STANDARD
TZOFFSETFROM:-0400
TZOFFSETTO:-0500
TZNAME:EST
DTSTART:20241103T060000
END:STANDARD
END:VTIMEZONE
BEGIN:VEVENT
DTSTART;TZID=America/New_York:20230606T110000
DTEND;TZID=America/New_York:20230606T120000
DTSTAMP:20260421T090523
CREATED:20240828T175906Z
LAST-MODIFIED:20240828T183832Z
UID:10000870-1686049200-1686052800@massmep.org
SUMMARY:CONNEX LIVE Registration Event
DESCRIPTION:Register Live for CONNEX with the MassMEP Team Subject Matter Experts\n\nIf you haven’t registered for CONNEX and need to do it\, jump in to create your account and apply the free for life promotion code. Registration will take less than 15-minutes\, and you can join us at any time in the hour to register your company(s).\n\nThe Lifetime Membership discount will be expiring on 6/13/23\, so let us help you get this done now.\n\n\nIf you are still wondering Why you should register here are three reasons:\n\nEnhance your supply chain strength and visualization.\nIncrease your bottom line.\nCommunicate needs with other local and national manufacturers.\n\nAdd this to your calendar and click here to register to attend. See you there!
URL:https://massmep.org/event/connex-live-registration-event/
ATTACH;FMTTYPE=image/png:https://massmep.org/wp-content/uploads/2024/08/Sign-Free-Forever-Promo-Image-lYkYhN.tmp_.png
END:VEVENT
BEGIN:VEVENT
DTSTART;TZID=America/New_York:20230601T100000
DTEND;TZID=America/New_York:20230601T110000
DTSTAMP:20260421T090523
CREATED:20240828T175903Z
LAST-MODIFIED:20240828T183830Z
UID:10000865-1685613600-1685617200@massmep.org
SUMMARY:CONNEX Massachusetts Registration & Training Session
DESCRIPTION:The session is created for Massachusetts Manufacturers that are interested in joining the CONNEX Supply Chain Database. If you are new to the platform MassMEP representatives will be live to get you registered\, walk you through the features of the platform\, and answer questions. \nSession times and dates are listed in the MassMEP workshop calendar. Click the link on your preferred date to join the live session\, no registration necessary. Manufacturers will only need to attend one training session. \nThrough the MassMEP partnership\, a lifetime CONNEX Massachusetts subscription is available at no cost for all Massachusetts Manufacturers. To join the CONNEX Marketplace National Database account holders will receive a promotion code that equates to an annual savings of $500/year. This offer is valid through June 13\, 2023. \nClick here to join
URL:https://massmep.org/event/connex-massachusetts-registration-training-session-6/
ATTACH;FMTTYPE=image/jpeg:https://massmep.org/wp-content/uploads/2024/09/MassMEP_BlogCover.jpg
END:VEVENT
BEGIN:VEVENT
DTSTART;TZID=America/New_York:20230525T100000
DTEND;TZID=America/New_York:20230525T110000
DTSTAMP:20260421T090523
CREATED:20240828T175903Z
LAST-MODIFIED:20240828T183829Z
UID:10000864-1685008800-1685012400@massmep.org
SUMMARY:CONNEX Massachusetts Registration & Training Session
DESCRIPTION:The session is created for Massachusetts Manufacturers that are interested in joining the CONNEX Supply Chain Database. If you are new to the platform MassMEP representatives will be live to get you registered\, walk you through the features of the platform\, and answer questions. \nSession times and dates are listed in the MassMEP workshop calendar. Click the link on your preferred date to join the live session\, no registration necessary. Manufacturers will only need to attend one training session. \nThrough the MassMEP partnership\, a lifetime CONNEX Massachusetts subscription is available at no cost for all Massachusetts Manufacturers. To join the CONNEX Marketplace National Database account holders will receive a promotion code that equates to an annual savings of $500/year. This offer is valid through June 13\, 2023. \nClick here to join
URL:https://massmep.org/event/connex-massachusetts-registration-training-session-5/
ATTACH;FMTTYPE=image/jpeg:https://massmep.org/wp-content/uploads/2024/09/MassMEP_BlogCover.jpg
END:VEVENT
BEGIN:VEVENT
DTSTART;TZID=America/New_York:20230504T100000
DTEND;TZID=America/New_York:20230504T110000
DTSTAMP:20260421T090523
CREATED:20240828T175902Z
LAST-MODIFIED:20240828T183829Z
UID:10000861-1683194400-1683198000@massmep.org
SUMMARY:CONNEX Massachusetts Registration & Training Session
DESCRIPTION:The session is created for Massachusetts Manufacturers that are interested in joining the CONNEX Supply Chain Database. If you are new to the platform MassMEP representatives will be live to get you registered\, walk you through the features of the platform\, and answer questions. \nSession times and dates are listed in the MassMEP workshop calendar. Click the link on your preferred date to join the live session\, no registration necessary. Manufacturers will only need to attend one training session. \nThrough the MassMEP partnership\, a lifetime CONNEX Massachusetts subscription is available at no cost for all Massachusetts Manufacturers. To join the CONNEX Marketplace National Database account holders will receive a promotion code that equates to an annual savings of $500/year. This offer is valid through June 13\, 2023. \nClick here to join
URL:https://massmep.org/event/connex-massachusetts-registration-training-session-2/
ATTACH;FMTTYPE=image/jpeg:https://massmep.org/wp-content/uploads/2024/09/MassMEP_BlogCover.jpg
END:VEVENT
BEGIN:VEVENT
DTSTART;TZID=America/New_York:20230406T100000
DTEND;TZID=America/New_York:20230406T110000
DTSTAMP:20260421T090523
CREATED:20240828T175857Z
LAST-MODIFIED:20240828T183829Z
UID:10000860-1680775200-1680778800@massmep.org
SUMMARY:CONNEX Massachusetts Registration & Training Session
DESCRIPTION:The session is created for Massachusetts Manufacturers that are interested in joining the CONNEX Supply Chain Database. If you are new to the platform MassMEP representatives will be live to get you registered\, walk you through the features of the platform\, and answer questions. \nSession times and dates are listed in the MassMEP workshop calendar. Click the link on your preferred date to join the live session\, no registration necessary. Manufacturers will only need to attend one training session. \nThrough the MassMEP partnership\, a lifetime CONNEX Massachusetts subscription is available at no cost for all Massachusetts Manufacturers. To join the CONNEX Marketplace National Database account holders will receive a promotion code that equates to an annual savings of $500/year. This offer is valid through June 13\, 2023. \nClick here to join
URL:https://massmep.org/event/connex-massachusetts-registration-training-session/
ATTACH;FMTTYPE=image/jpeg:https://massmep.org/wp-content/uploads/2024/09/MassMEP_BlogCover.jpg
END:VEVENT
END:VCALENDAR