BEGIN:VCALENDAR
VERSION:2.0
PRODID:-//Mass MEP - ECPv6.15.20//NONSGML v1.0//EN
CALSCALE:GREGORIAN
METHOD:PUBLISH
X-ORIGINAL-URL:https://massmep.org
X-WR-CALDESC:Events for Mass MEP
REFRESH-INTERVAL;VALUE=DURATION:PT1H
X-Robots-Tag:noindex
X-PUBLISHED-TTL:PT1H
BEGIN:VTIMEZONE
TZID:America/New_York
BEGIN:DAYLIGHT
TZOFFSETFROM:-0500
TZOFFSETTO:-0400
TZNAME:EDT
DTSTART:20210314T070000
END:DAYLIGHT
BEGIN:STANDARD
TZOFFSETFROM:-0400
TZOFFSETTO:-0500
TZNAME:EST
DTSTART:20211107T060000
END:STANDARD
BEGIN:DAYLIGHT
TZOFFSETFROM:-0500
TZOFFSETTO:-0400
TZNAME:EDT
DTSTART:20220313T070000
END:DAYLIGHT
BEGIN:STANDARD
TZOFFSETFROM:-0400
TZOFFSETTO:-0500
TZNAME:EST
DTSTART:20221106T060000
END:STANDARD
BEGIN:DAYLIGHT
TZOFFSETFROM:-0500
TZOFFSETTO:-0400
TZNAME:EDT
DTSTART:20230312T070000
END:DAYLIGHT
BEGIN:STANDARD
TZOFFSETFROM:-0400
TZOFFSETTO:-0500
TZNAME:EST
DTSTART:20231105T060000
END:STANDARD
END:VTIMEZONE
BEGIN:VEVENT
DTSTART;TZID=America/New_York:20220223T110000
DTEND;TZID=America/New_York:20220223T120000
DTSTAMP:20260423T044503
CREATED:20240828T175650Z
LAST-MODIFIED:20240828T183809Z
UID:10000773-1645614000-1645617600@massmep.org
SUMMARY:Industry 4.0 Roadmapping Information Session
DESCRIPTION:3/23/22 11AM-12PM\nIn 2021 MassMEP introduced a new Industry 4.0 Consortium based around growth strategy. After a year with the consortium\, Mark Roth & Gregg Bauer are returning to provide details on new solutions that were created from the initial consortium. \nIn this one-hour webinar\, Marc and Gregg will walk you through an Industry 4.0 Roadmap with multiple options that are now available for your solutions. Attend one\, two or all three of these consortiums to maximize your impact with an Industry 4.0 Roadmap: \n– Business Growth Consortium\n– Continuous Improvement Consortium\n– Supply Chain Consortium \nRegister Here
URL:https://massmep.org/event/industry-4-0-roadmapping-information-session/
LOCATION:Zoom
ATTACH;FMTTYPE=image/png:https://massmep.org/wp-content/uploads/2024/08/3.23.22-1-Fm4Krl.tmp_.png
END:VEVENT
END:VCALENDAR