BEGIN:VCALENDAR
VERSION:2.0
PRODID:-//Mass MEP - ECPv6.15.20//NONSGML v1.0//EN
CALSCALE:GREGORIAN
METHOD:PUBLISH
X-ORIGINAL-URL:https://massmep.org
X-WR-CALDESC:Events for Mass MEP
REFRESH-INTERVAL;VALUE=DURATION:PT1H
X-Robots-Tag:noindex
X-PUBLISHED-TTL:PT1H
BEGIN:VTIMEZONE
TZID:America/New_York
BEGIN:DAYLIGHT
TZOFFSETFROM:-0500
TZOFFSETTO:-0400
TZNAME:EDT
DTSTART:20180311T070000
END:DAYLIGHT
BEGIN:STANDARD
TZOFFSETFROM:-0400
TZOFFSETTO:-0500
TZNAME:EST
DTSTART:20181104T060000
END:STANDARD
BEGIN:DAYLIGHT
TZOFFSETFROM:-0500
TZOFFSETTO:-0400
TZNAME:EDT
DTSTART:20190310T070000
END:DAYLIGHT
BEGIN:STANDARD
TZOFFSETFROM:-0400
TZOFFSETTO:-0500
TZNAME:EST
DTSTART:20191103T060000
END:STANDARD
BEGIN:DAYLIGHT
TZOFFSETFROM:-0500
TZOFFSETTO:-0400
TZNAME:EDT
DTSTART:20200308T070000
END:DAYLIGHT
BEGIN:STANDARD
TZOFFSETFROM:-0400
TZOFFSETTO:-0500
TZNAME:EST
DTSTART:20201101T060000
END:STANDARD
END:VTIMEZONE
BEGIN:VEVENT
DTSTART;TZID=America/New_York:20190926T080000
DTEND;TZID=America/New_York:20190926T160000
DTSTAMP:20260421T153837
CREATED:20240828T215300Z
LAST-MODIFIED:20240903T190601Z
UID:10000581-1569484800-1569513600@massmep.org
SUMMARY:Geometric Dimensioning & Tolerancing "GD&T"
DESCRIPTION:Geometric Dimensioning and Tolerancing (GD&T) is an international symbolic language used on engineering drawings. GD&T is a valuable tool that effectively communicates the design intent to manufacturing and inspection. GD&T is a valuable tool that effectively communicates the design intent to manufacturing and inspection. It is governed by the technical standard ASME Y14.5-2009. \nThis workshop is an introduction t0 geometric dimensioning and tolerancing. The course is based on Dimensioning & Tolerancing ASME Y14.5-2009 standard. \nStudents will get a thorough introduction to the Y14.5 standard. The principal objective is to give those who are required to interpret blueprints the skills to understand the basics of geometric dimensioning and tolerancing. \nRegister Here
URL:https://massmep.org/event/geometric-dimensioning-tolerancing-gdt/
LOCATION:Auburn\, Auburn\, MA\, United States
ATTACH;FMTTYPE=image/jpeg:https://massmep.org/wp-content/uploads/2024/09/MassMEP_BlogCover.jpg
END:VEVENT
END:VCALENDAR