BEGIN:VCALENDAR
VERSION:2.0
PRODID:-//Mass MEP - ECPv6.15.20//NONSGML v1.0//EN
CALSCALE:GREGORIAN
METHOD:PUBLISH
X-WR-CALNAME:Mass MEP
X-ORIGINAL-URL:https://massmep.org
X-WR-CALDESC:Events for Mass MEP
REFRESH-INTERVAL;VALUE=DURATION:PT1H
X-Robots-Tag:noindex
X-PUBLISHED-TTL:PT1H
BEGIN:VTIMEZONE
TZID:America/New_York
BEGIN:DAYLIGHT
TZOFFSETFROM:-0500
TZOFFSETTO:-0400
TZNAME:EDT
DTSTART:20170312T070000
END:DAYLIGHT
BEGIN:STANDARD
TZOFFSETFROM:-0400
TZOFFSETTO:-0500
TZNAME:EST
DTSTART:20171105T060000
END:STANDARD
BEGIN:DAYLIGHT
TZOFFSETFROM:-0500
TZOFFSETTO:-0400
TZNAME:EDT
DTSTART:20180311T070000
END:DAYLIGHT
BEGIN:STANDARD
TZOFFSETFROM:-0400
TZOFFSETTO:-0500
TZNAME:EST
DTSTART:20181104T060000
END:STANDARD
BEGIN:DAYLIGHT
TZOFFSETFROM:-0500
TZOFFSETTO:-0400
TZNAME:EDT
DTSTART:20190310T070000
END:DAYLIGHT
BEGIN:STANDARD
TZOFFSETFROM:-0400
TZOFFSETTO:-0500
TZNAME:EST
DTSTART:20191103T060000
END:STANDARD
END:VTIMEZONE
BEGIN:VEVENT
DTSTART;TZID=America/New_York:20180124T080000
DTEND;TZID=America/New_York:20180124T103000
DTSTAMP:20260421T152743
CREATED:20240828T215200Z
LAST-MODIFIED:20240903T190552Z
UID:10000546-1516780800-1516789800@massmep.org
SUMMARY:Massachusetts Defense SuppliersÉ Are You Ready for DFARS?
DESCRIPTION:Join MassMEP for breakfast January 24\, 2018 to learn about DFARS (NIST Special Publication 800-171)\, and understand its cybersecurity requirements and the impact to your company at the Courtyard Marriott 72 Grove Street\, Worcester\, MA. \n  \n\n8:00am – 8:30am – Registration and light breakfast\n8:30am – 10:00am – Presentation Pat Toth Computer Scientist at NIST MEP\n10:00am – 10:30am – Charles Coakley Project Manager for MassMEP will provide roadmap to compliance\n\n Pat Toth is a Computer Scientist at NIST MEP and serves as the Cybersecurity Program Manager. Pat has over 30 years of experience in Cybersecurity and worked on various NIST Cybersecurity guidance documents including NISTIR 7621 Small Business Information Security: The Fundamentals Information in Non-federal Information Systems and Organizations. \nDoD Cybersecurity Requirements: What do Small Manufacturers Need to Know?\nNo business is too small to be hacked. More than 70 percent of reported breaches actually affected businesses with 100 employees or less. Therefore\, having a sustainable plan in place is critical to the survival of a small business because one cyber-attack can be catastrophic. \nKnowing this\, government agencies are requiring their contractors to meet certain cybersecurity requirements. What may have been a “down the road” priority has become a “better do it now” priority for contractors nationwide including vendors doing business with the Department of Defense (DoD). \nThe requirements detailed by the National Institute of Standards and Technology (NIST) in Special Publication 800-171 include the compliance deadline December 31\, 2017. Make sure to attend this workshop and start the process of becoming compliant so your company is not in jeopardy of losing its DoD contracts. \nWho should attend?  \nManufacturers that are suppliers or service providers in the defense industry or manufacturers interested in working with the Department of Defense. \nWhy attend?  \nThis workshop will help manufacturers understand and manage their risk and establish a cybersecurity protocol to protect their most critical assets. \nRSVP to Kristy Grignon at mailto:kristyg@massmep.org\n 
URL:https://massmep.org/event/massachusetts-defense-supplierse-are-you-ready-for-dfars/
LOCATION:Courtyard Worcester\, 72 Grove St\,\, Worcester\, MA\, 01605\, United States
ATTACH;FMTTYPE=image/jpeg:https://massmep.org/wp-content/uploads/2024/09/MassMEP_BlogCover.jpg
END:VEVENT
END:VCALENDAR