BEGIN:VCALENDAR
VERSION:2.0
PRODID:-//Mass MEP - ECPv6.15.20//NONSGML v1.0//EN
CALSCALE:GREGORIAN
METHOD:PUBLISH
X-ORIGINAL-URL:https://massmep.org
X-WR-CALDESC:Events for Mass MEP
REFRESH-INTERVAL;VALUE=DURATION:PT1H
X-Robots-Tag:noindex
X-PUBLISHED-TTL:PT1H
BEGIN:VTIMEZONE
TZID:America/New_York
BEGIN:DAYLIGHT
TZOFFSETFROM:-0500
TZOFFSETTO:-0400
TZNAME:EDT
DTSTART:20220313T070000
END:DAYLIGHT
BEGIN:STANDARD
TZOFFSETFROM:-0400
TZOFFSETTO:-0500
TZNAME:EST
DTSTART:20221106T060000
END:STANDARD
BEGIN:DAYLIGHT
TZOFFSETFROM:-0500
TZOFFSETTO:-0400
TZNAME:EDT
DTSTART:20230312T070000
END:DAYLIGHT
BEGIN:STANDARD
TZOFFSETFROM:-0400
TZOFFSETTO:-0500
TZNAME:EST
DTSTART:20231105T060000
END:STANDARD
BEGIN:DAYLIGHT
TZOFFSETFROM:-0500
TZOFFSETTO:-0400
TZNAME:EDT
DTSTART:20240310T070000
END:DAYLIGHT
BEGIN:STANDARD
TZOFFSETFROM:-0400
TZOFFSETTO:-0500
TZNAME:EST
DTSTART:20241103T060000
END:STANDARD
BEGIN:DAYLIGHT
TZOFFSETFROM:-0500
TZOFFSETTO:-0400
TZNAME:EDT
DTSTART:20250309T070000
END:DAYLIGHT
BEGIN:STANDARD
TZOFFSETFROM:-0400
TZOFFSETTO:-0500
TZNAME:EST
DTSTART:20251102T060000
END:STANDARD
END:VTIMEZONE
BEGIN:VEVENT
DTSTART;TZID=America/New_York:20240425T163000
DTEND;TZID=America/New_York:20240425T193000
DTSTAMP:20260421T060305
CREATED:20240828T180030Z
LAST-MODIFIED:20240828T183842Z
UID:10000917-1714062600-1714073400@massmep.org
SUMMARY:FORGE Spring Startup Showcase
DESCRIPTION:Join FORGE for the Spring Startup Showcase at 3DEXPERIENCE Lab at Dassault Systemes – 175 Wyman Street\, Earth Building\, Waltham. \nThe event brings together emerging\, local hardtech companies\, manufacturers\, investors\, and other ecosystem collaborators\, with 15-20 startups exhibiting their products for networking\, and selected startups pitching for FORGE Product Development Grants. \nSome 150 to 200 attendees will join a celebration of the local hardtech innovation community. \n4:30pm – Welcome\, Networking and Startup Exhibition Open\n5:30pm – Opening Remarks\n6:00 pm – Startup Pitches\n6:45 pm – Judges Deliberations and Open Networking\n7:15pm – Award Presentations \nRegister Here
URL:https://massmep.org/event/forge-spring-startup-showcase-2/
LOCATION:Dassault Systems 3D Experience Lab\, 175 Wyman Street\, Waltham\, 02451
ATTACH;FMTTYPE=image/png:https://massmep.org/wp-content/uploads/2024/08/webgraphics-11-hSceCi.tmp_.png
END:VEVENT
BEGIN:VEVENT
DTSTART;TZID=America/New_York:20230413T000000
DTEND;TZID=America/New_York:20230413T235900
DTSTAMP:20260421T060305
CREATED:20240828T175854Z
LAST-MODIFIED:20240828T183829Z
UID:10000857-1681344000-1681430340@massmep.org
SUMMARY:FORGE Spring Startup Showcase
DESCRIPTION:Thursday\, April 13th\, 2023. From 4:30pm – 7:30pm\n\nForge Spring Startup Showcase!\nThis Event will feature startup tabletop demonstrations\, a pitch competition\, and informal networking opportunities with startups and FORGE ecosystem partners. This is a unique opportunity for you to engage with the FORGE startup community\, learn about emerging technologies\, and explore potential partnerships with innovative startups. Our network has some exciting products and ideas to show off! \nThis event will bring together startup companies\, local suppliers\, manufacturers\, startup ecosystem organizations\, and investors in a casual setting\, hosted by 3DExperience Lab at Dassault Systemes. \nFor event questions\, contact kprosser@wbjournal.com. \nRegister Here
URL:https://massmep.org/event/forge-spring-startup-showcase/
LOCATION:Dassault Systems 3D Experience Lab\, 175 Wyman Street\, Waltham\, 02451
ATTACH;FMTTYPE=image/jpeg:https://massmep.org/wp-content/uploads/2024/09/MassMEP_BlogCover.jpg
END:VEVENT
END:VCALENDAR