BEGIN:VCALENDAR
VERSION:2.0
PRODID:-//Mass MEP - ECPv6.15.20//NONSGML v1.0//EN
CALSCALE:GREGORIAN
METHOD:PUBLISH
X-WR-CALNAME:Mass MEP
X-ORIGINAL-URL:https://massmep.org
X-WR-CALDESC:Events for Mass MEP
REFRESH-INTERVAL;VALUE=DURATION:PT1H
X-Robots-Tag:noindex
X-PUBLISHED-TTL:PT1H
BEGIN:VTIMEZONE
TZID:America/New_York
BEGIN:DAYLIGHT
TZOFFSETFROM:-0500
TZOFFSETTO:-0400
TZNAME:EDT
DTSTART:20160313T070000
END:DAYLIGHT
BEGIN:STANDARD
TZOFFSETFROM:-0400
TZOFFSETTO:-0500
TZNAME:EST
DTSTART:20161106T060000
END:STANDARD
BEGIN:DAYLIGHT
TZOFFSETFROM:-0500
TZOFFSETTO:-0400
TZNAME:EDT
DTSTART:20170312T070000
END:DAYLIGHT
BEGIN:STANDARD
TZOFFSETFROM:-0400
TZOFFSETTO:-0500
TZNAME:EST
DTSTART:20171105T060000
END:STANDARD
BEGIN:DAYLIGHT
TZOFFSETFROM:-0500
TZOFFSETTO:-0400
TZNAME:EDT
DTSTART:20180311T070000
END:DAYLIGHT
BEGIN:STANDARD
TZOFFSETFROM:-0400
TZOFFSETTO:-0500
TZNAME:EST
DTSTART:20181104T060000
END:STANDARD
BEGIN:DAYLIGHT
TZOFFSETFROM:-0500
TZOFFSETTO:-0400
TZNAME:EDT
DTSTART:20190310T070000
END:DAYLIGHT
BEGIN:STANDARD
TZOFFSETFROM:-0400
TZOFFSETTO:-0500
TZNAME:EST
DTSTART:20191103T060000
END:STANDARD
BEGIN:DAYLIGHT
TZOFFSETFROM:-0500
TZOFFSETTO:-0400
TZNAME:EDT
DTSTART:20200308T070000
END:DAYLIGHT
BEGIN:STANDARD
TZOFFSETFROM:-0400
TZOFFSETTO:-0500
TZNAME:EST
DTSTART:20201101T060000
END:STANDARD
BEGIN:DAYLIGHT
TZOFFSETFROM:-0500
TZOFFSETTO:-0400
TZNAME:EDT
DTSTART:20210314T070000
END:DAYLIGHT
BEGIN:STANDARD
TZOFFSETFROM:-0400
TZOFFSETTO:-0500
TZNAME:EST
DTSTART:20211107T060000
END:STANDARD
END:VTIMEZONE
BEGIN:VEVENT
DTSTART;TZID=America/New_York:20200512T100000
DTEND;TZID=America/New_York:20200512T120000
DTSTAMP:20260421T090342
CREATED:20240828T175417Z
LAST-MODIFIED:20240828T183734Z
UID:10000620-1589277600-1589284800@massmep.org
SUMMARY:Marketing for Manufacturers Redefined - Webinar
DESCRIPTION:10 Tips to Implement Now\nMarketing is no longer just about trade shows\, sales brochures\, catalogs and a basic website. This workshop will discuss the changing role marketing plays in a manufacturer’s  growth objectives and will redefine marketing in a way that will bring you to the bleeding edge of marketing’s evolving role as a growth-driver.\n\n\nThis webinar will also offer relevant and immediately actionable tips to maximize your marketing ROI and increase your top-line growth. Topics will include the rise of inbound marketing\,  developing content calendars\, leveraging cost effective tools and automation platforms and adding in the right marketing metrics.\nRegister Here
URL:https://massmep.org/event/marketing-for-manufacturers-redefined-webinar/
LOCATION:MassMEP\, 27A Midstate Drive\, Auburn\, MA\, 01501\, United States
ATTACH;FMTTYPE=image/jpeg:https://massmep.org/wp-content/uploads/2024/09/MassMEP_BlogCover.jpg
END:VEVENT
BEGIN:VEVENT
DTSTART;TZID=America/New_York:20200505T110000
DTEND;TZID=America/New_York:20200505T130000
DTSTAMP:20260421T090342
CREATED:20240828T175416Z
LAST-MODIFIED:20240828T183734Z
UID:10000618-1588676400-1588683600@massmep.org
SUMMARY:Integrated Growth for Industry 4.0 - Webinar
DESCRIPTION:How to Drive Revenue in the age of COVID-19\n“How to leverage Industry 4.0 to grow your business in the new global environment post Covid 19 by Spinnaker Venture Partners.”  This information session is a snapshot of the training that provides a comprehensive understanding the role of Industry 4.0 and connected manufacturing to drive business growth in the world of new business realties.   Participants will learn that Industry 4.0 isn’t just about investing in new technology and tools to improve manufacturing efficiency but that it’s just as important to enable new models for product and service delivery\, revolutionizing the way that their entire businesses operate and grow. \nRegister Here
URL:https://massmep.org/event/integrated-growth-for-industry-4-0-webinar/
LOCATION:MassMEP\, 27A Midstate Drive\, Auburn\, MA\, 01501\, United States
ATTACH;FMTTYPE=image/jpeg:https://massmep.org/wp-content/uploads/2024/09/MassMEP_BlogCover.jpg
END:VEVENT
BEGIN:VEVENT
DTSTART;TZID=America/New_York:20200504T080000
DTEND;TZID=America/New_York:20200504T120000
DTSTAMP:20260421T090342
CREATED:20240828T175409Z
LAST-MODIFIED:20240828T183734Z
UID:10000616-1588579200-1588593600@massmep.org
SUMMARY:Online - ISO Internal Auditor 9001:2015 - Small Business Direct Access (SBDAP)
DESCRIPTION:Who Should Attend: This course is recommended for anyone involved in designing\, implementing\, maintaining and improving a quality management system and/or performing internal audits of a quality management system\, such as quality officers\, managers and auditors. No prior knowledge of auditing\, quality management systems or ISO 9001:2008 is required prior to attending this course. \nCourse Highlights / Topics Covered: \n\nThe process approach\, performance indicators and risk\nThe “Plan-Do-Check-Act” principle\nThe key elements of a quality management system\, management of documents/records\, deviations\, corrective and preventive actions\nManagement responsibility\, management representative and management review\nMeasurement\, analysis and continuous improvement on customer satisfaction\, quality management effectiveness through internal audits\, process performance and conformity to product requirements\nWhat are internal audits\nWhy are internal audits conducted\nWhat preparatory work should be carried out before an audit\nWhat to pay attention to during the audit\nWhat is a good audit report\nWhat aspects are important in monitoring audit results\, corrective and preventive actions\n\nStudents will benefit by: \n\nLearning how to plan\, conduct\, and report quality audit results\nEnhancing your understanding of the components of an internal quality audit program\nGaining an in-depth understanding of ISO 9001 requirements\nGetting answers to your toughest audit questions\n\nCapturing a working knowledge of the practices\, roles and responsibilities of an auditor \nRegister Here
URL:https://massmep.org/event/online-iso-internal-auditor-90012015-small-business-direct-access-sbdap/
LOCATION:MassMEP\, 27A Midstate Drive\, Auburn\, MA\, 01501\, United States
ATTACH;FMTTYPE=image/jpeg:https://massmep.org/wp-content/uploads/2024/09/MassMEP_BlogCover.jpg
END:VEVENT
BEGIN:VEVENT
DTSTART;TZID=America/New_York:20200303T110000
DTEND;TZID=America/New_York:20200303T130000
DTSTAMP:20260421T090342
CREATED:20240828T175405Z
LAST-MODIFIED:20240828T183733Z
UID:10000611-1583233200-1583240400@massmep.org
SUMMARY:Cybersecurity Maturity Model Certification (CMMC) Lunch & Learn
DESCRIPTION:Manufacturers in the DoD supply chain are required to have adequate information security measures in place to protect Controlled Unclassified Information (CUI). Starting in 2020\, independent auditors will be assessing manufacturers’ security posture\, which will determine which contracts they can bid. This session will provide an overview of these requirements and the various options available to ensure compliance with them. \nRegister Here\n  \nThis communication was prepared under contract with the State of Vermont\, as fiscal agent for the New England Collaborative\, \nwith financial support from the Office of Economic Adjustment\, Department of Defense. The content reflects the views of the \nNew England Collaborative and does not necessarily reflect the views of the Office of Economic Adjustment\, the U.S. Department of Defense\, \nor the participating states.
URL:https://massmep.org/event/cybersecurity-maturity-model-certification-cmmc-lunch-learn/
LOCATION:MassMEP\, 27A Midstate Drive\, Auburn\, MA\, 01501\, United States
ATTACH;FMTTYPE=image/jpeg:https://massmep.org/wp-content/uploads/2024/09/MassMEP_BlogCover.jpg
END:VEVENT
BEGIN:VEVENT
DTSTART;TZID=America/New_York:20191213T110000
DTEND;TZID=America/New_York:20191213T150000
DTSTAMP:20260421T090342
CREATED:20240828T215400Z
LAST-MODIFIED:20240903T190717Z
UID:10000608-1576234800-1576249200@massmep.org
SUMMARY:MASSMEP HOLIDAY OPEN HOUSE
DESCRIPTION:  \nRegister Here
URL:https://massmep.org/event/massmep-holiday-open-house/
LOCATION:MassMEP\, 27A Midstate Drive\, Auburn\, MA\, 01501\, United States
ATTACH;FMTTYPE=image/jpeg:https://massmep.org/wp-content/uploads/2024/09/MassMEP_BlogCover.jpg
END:VEVENT
BEGIN:VEVENT
DTSTART;TZID=America/New_York:20191108T100000
DTEND;TZID=America/New_York:20191108T130000
DTSTAMP:20260421T090342
CREATED:20240828T175416Z
LAST-MODIFIED:20240828T183734Z
UID:10000619-1573207200-1573218000@massmep.org
SUMMARY:Agile Manufacturing Lunch & Learn
DESCRIPTION:Introduction to Agile\nTRAINING DESCRIPTION: \nAmerican business is grounded in innovation and while most companies start out with a novel idea\, staying innovative in your industry requires dedication.  Learn how the Agile Operating Model is helping companies stay competitive and encourages continual innovation.  This course delivers insights into the Agile Methodology allowing executives to understand if Agile is a fit for their company.  This course will also outline a few basic steps to help prepare a company for a successful Agile Transformation. \n  \nTRAINING OBJECTIVE: \nThis course is designed for company executives to learn the benefits of an Agile operating model and help them to evaluate if this would be something appropriate for their company.  Participants will learn about the foundations of Agile along with the values that the 12 Agile Principles were built on.  The course will deliver a few basic techniques to prepare for an Agile journey.  This training will also include various examples of successful Agile journeys and lessons learned. \n  \nSKILL ATTAINMENT: \nThis course will provide a brief overview of the Agile Operating Model and the key benefits of adopting the methodology.  In addition\, the training will help to evaluate if Agile is a good match with your company’s culture and needs. \nSkills include: \n\nEvaluate company readiness for an operating model change\nBuild appreciation for the Agile operating model’s values and principles\nUnderstanding of Agile benefits versus traditional project management\nInsights on new\, more agile ways of working to better promote collaboration\, speed to market\, and innovation\nIncreased knowledge of Agile roles\, tools and ceremonies\nAwareness of how teams and product progress is planned and tracked within an Agile operating model\n\nRegister Here
URL:https://massmep.org/event/agile-manufacturing-lunch-learn/
LOCATION:MassMEP\, 27A Midstate Drive\, Auburn\, MA\, 01501\, United States
ATTACH;FMTTYPE=image/jpeg:https://massmep.org/wp-content/uploads/2024/09/MassMEP_BlogCover.jpg
END:VEVENT
BEGIN:VEVENT
DTSTART;TZID=America/New_York:20190612T090000
DTEND;TZID=America/New_York:20190612T110000
DTSTAMP:20260421T090342
CREATED:20240828T215300Z
LAST-MODIFIED:20240903T190716Z
UID:10000603-1560330000-1560337200@massmep.org
SUMMARY:Leveraging today’s digital and social channels for manufacturers to retain and attract talent
DESCRIPTION:Leveraging today’s digital and social channels for manufacturers to retain and attract talent\nHuman Resource leaders in the manufacturing community are experiencing a major talent gap that is leading to a war for the most sought after profiles. The same way the consumer has become informed\, connected and overall more powerful\, talented profiles well suited for the manufacturing industry are more difficult to attract and to retain than ever before. As a result\, a manufacturer’s ability to attract and retain the best talent has become a critical source of competitive advantage\, but also requires new sets of marketing tools that a traditional HR Manager is often not equipped to deploy. \nGiven this background\, MassMEP has partnered with TribalVision – an outsourced Boston-based marketing firm – to conduct a workshop that will equip manufacturers with the tactics and tools necessary to recruit and retain the workers needed to support and fuel the next stage of company growth. The 60-minute workshop will touch on the following topics: \n\nBuilding out the marketing assets needed to improve your “attractiveness score” with potential recruits\nDeploying digital and social campaigns to target and attract potential candidates\nPutting in place internal marketing initiatives to increase staff retention and morale\nDeveloping a process to generate and post online customer and employee reviews\n\nRegister Here\nThis workshop will be presented by: \nChris Ciunci Founder & Managing Partner\, Tirbal Vision\nAn entrepreneur with over 15 years of marketing experience\,\nChris Ciunci founded TribalVision as a forward-thinking alternative to traditional marketing models. These outmoded models stressed tactics over strategy\, commissions over flat fees\, and a one-size-fits-all approach over treating each client differently. \nToday\, Chris oversees TribalVision’s strategic direction\, guides our distinct client-first philosophy and spearheads our business development efforts. Collaborating closely with our clients\, internal team members and external partners\, his comprehensive marketing strategies revolve around generating new business and strengthening a client’s overall marketing efforts. \nAn active thought leader\, panelist and featured speaker\, Chris continues to share his knowledge and perspectives at varied events throughout the regional marketing community. These events include seminars\, symposiums and workshops sponsored by colleges\, universities\, marketing-industry groups and general business organizations.
URL:https://massmep.org/event/leveraging-todayos-digital-and-social-channels-for-manufacturers-to-retain-and-attract-talent/
LOCATION:MassMEP\, 27A Midstate Drive\, Auburn\, MA\, 01501\, United States
ATTACH;FMTTYPE=image/jpeg:https://massmep.org/wp-content/uploads/2024/09/MassMEP_BlogCover.jpg
END:VEVENT
BEGIN:VEVENT
DTSTART;TZID=America/New_York:20190321T090000
DTEND;TZID=America/New_York:20190321T110000
DTSTAMP:20260421T090342
CREATED:20240828T215300Z
LAST-MODIFIED:20240903T190600Z
UID:10000572-1553158800-1553166000@massmep.org
SUMMARY:Attracting & Retaining the Z & Millennial Generations for Manufacturing Worcester\, MA
DESCRIPTION:Customizable technical training with minimal impact to production!\nWith millions of manufacturing workers expected to retire in the next few years\, rapid changes in technology and record low unemployment\, employers are discovering that they need to do something different to train the next generation of the workforce. Manufacturers need to leverage new learning and development systems to attract new workers\, accelerate workforce training and retain tribal knowledge. \nIn this session you will learn how: \n\nonline learning aligns with how Millennials and Generation Z workers think\nMassMEP can customize Tooling U training programs and manage their administration\nthe Workforce Training Fund Program may be able to offset some of the cost\n\nAbout Tooling U-SME \nTooling U-SME delivers versatile\, competency-based learning and development solutions to the manufacturing community\, working with more than half of all Fortune 500¨ manufacturing companies\, as well as 600 educational institutions across the country. Tooling U-SME partners with customers to build high performers who help their companies drive quality\, productivity\, innovation\, and employee satisfaction. Working directly with hundreds of high schools\, community colleges\, and universities\, Tooling U-SME is also able to help prepare the next generation workforce by providing industry-driven curriculum. \n  \nRegister Here
URL:https://massmep.org/event/attracting-retaining-the-z-millennial-generations-for-manufacturing-worcester-ma/
LOCATION:MassMEP\, 27A Midstate Drive\, Auburn\, MA\, 01501\, United States
ATTACH;FMTTYPE=image/jpeg:https://massmep.org/wp-content/uploads/2024/09/MassMEP_BlogCover.jpg
END:VEVENT
BEGIN:VEVENT
DTSTART;TZID=America/New_York:20181024T080000
DTEND;TZID=America/New_York:20181024T120000
DTSTAMP:20260421T090342
CREATED:20240828T215300Z
LAST-MODIFIED:20240903T190558Z
UID:10000557-1540368000-1540382400@massmep.org
SUMMARY:Building a Strategic Marketing Plan Primed for Growth & Marketing Tools that every Manufacturer Should Leverage
DESCRIPTION:Lean manufacturing will take you far\, but it is exponentially more valuable when paired with a strategic plan for long-term growth. Manufacturers with formalized\, growth-centered strategic plans achieve their goals more efficiently and cost-effectively than those who focus only on the bottom line. This workshop will take MassMEP members through the entire process of building a strategic plan – from evaluating and prioritizing your needs to devising the best strategy and tactics to address those needs. You can expect to leave this workshop ready to create and implement your own growth-centered strategic marketing plan. \n\nIn today’s digital era\, the most successful manufacturers take the principles of Six Sigma to the next level with innovative new digital marketing tools. You can measure your marketing in the same way that you measure manufacturing processes – and achieve the same sustained quality improvement that Six Sigma brings to your process. This workshop will illustrate useful tools ranging from customer relationship management (CRM) systems that help you keep your customers and prospects happy to marketing automation platforms that take care of repetitive tasks like email and event marketing and everything in between. \nRegister Here
URL:https://massmep.org/event/building-a-strategic-marketing-plan-primed-for-growth-marketing-tools-that-every-manufacturer-should-leverage-2/
LOCATION:MassMEP\, 27A Midstate Drive\, Auburn\, MA\, 01501\, United States
ATTACH;FMTTYPE=image/jpeg:https://massmep.org/wp-content/uploads/2024/09/MassMEP_BlogCover.jpg
END:VEVENT
BEGIN:VEVENT
DTSTART;TZID=America/New_York:20181017T080000
DTEND;TZID=America/New_York:20181017T120000
DTSTAMP:20260421T090342
CREATED:20240828T215300Z
LAST-MODIFIED:20240903T190556Z
UID:10000556-1539763200-1539777600@massmep.org
SUMMARY:Marketing for Manufacturers Redefined & 10 Tips to Implement Now
DESCRIPTION:Marketing is no longer about sales brochures\, logos and creative. Cutting edge manufacturers are embracing a marketing playbook that is consumed with growth and lead generation vs. creative. \nThis workshop will discuss the changing role marketing plays in a manufacturer’s short and long term growth objectives and what you can do to harness the latest tools and tactics. \nToday\, marketing is the key to growth in the manufacturing sector. New clients won’t come your way unless you pursue them\, and leads will trickle away if you don’t nurture them. Your transformation can – and should – start now. This workshop will offer relevant and immediately actionable tips to maximize your marketing ROI and increase your top-line growth. Topics will include crafting an impactful marketing plan\, developing powerful content\, building out game changing assets\, leveraging the latest digital techniques\, and adding in the right marketing metrics. \nRegister Here
URL:https://massmep.org/event/marketing-for-manufacturers-redefined-10-tips-to-implement-now-3/
LOCATION:MassMEP\, 27A Midstate Drive\, Auburn\, MA\, 01501\, United States
ATTACH;FMTTYPE=image/jpeg:https://massmep.org/wp-content/uploads/2024/09/MassMEP_BlogCover.jpg
END:VEVENT
BEGIN:VEVENT
DTSTART;TZID=America/New_York:20180410T080000
DTEND;TZID=America/New_York:20180410T120000
DTSTAMP:20260421T090342
CREATED:20240828T215200Z
LAST-MODIFIED:20240903T190549Z
UID:10000544-1523347200-1523361600@massmep.org
SUMMARY:Marketing for Manufacturers Redefined & 10 Tips to Implement Now
DESCRIPTION:Marketing for Manufacturers Redefined & 10 Tips to Implement Now \nMarketing is no longer about sales brochures\, logos and creative. Cutting edge manufacturers are embracing a marketing playbook that is consumed with growth and lead generation vs. creative.\nThis workshop will discuss the changing role marketing plays in a manufacturer’s short and long term growth objectives and what you can do to harness the latest tools and tactics. \nToday\, marketing is the key to growth in the manufacturing sector. New clients won’t come your way unless you pursue them\, and leads will trickle away if you don’t nurture them. Your transformation can – and should – start now. This workshop will offer relevant and immediately actionable tips to maximize your marketing ROI and increase your top-line growth. Topics will include crafting an impactful marketing plan\, developing powerful content\, building out game changing assets\, leveraging the latest digital techniques\, and adding in the right marketing metrics. \nRegister Here
URL:https://massmep.org/event/marketing-for-manufacturers-redefined-10-tips-to-implement-now-2/
LOCATION:MassMEP\, 27A Midstate Drive\, Auburn\, MA\, 01501\, United States
ATTACH;FMTTYPE=image/jpeg:https://massmep.org/wp-content/uploads/2024/09/MassMEP_BlogCover.jpg
END:VEVENT
BEGIN:VEVENT
DTSTART;TZID=America/New_York:20180315T080000
DTEND;TZID=America/New_York:20180315T120000
DTSTAMP:20260421T090342
CREATED:20240828T215200Z
LAST-MODIFIED:20240903T190554Z
UID:10000547-1521100800-1521115200@massmep.org
SUMMARY:Buying\, Selling\, Growing or Going – Maximize the value of your business
DESCRIPTION:You run a relatively successful company with great customers\, great suppliers\, and excellent employees. \nBut you often wonder:   \n\nCould my company be more successful?\nI’m not sure how to fix some of my company’s weaknesses.\n\nAnd what about the ones I don’t even know about?\n\n\nWhat impact would any change make? How would I even know where to start?\n\n  \nIt’s too much to think about\, given all your day-to-day challenges of running the business\, so you never take action.   But\, there’s a way to change the outcome. You can get a handle on all of the areas of your business that need improvement – and know how\, when\, by whom\, at what cost\, and with what impact\, such improvements can be made. \n  \nAll you need to do now is to take the ONE STEP of attending this seminar.  It will be the beginning of your company working for you\, instead of you working for your company. \nYou will learn what differentiates companies that:  \n\nMake growth and profitability look easy vs those that struggle year in\, and year out\nDebunk common misconceptions for growth and take a balanced approach\nSell for big multiples vs those that sell low\, or can’t sell at all\n\n  \nJoin the MA MEP for the FREE two part seminar: \nDay 1 March15th:  Learn how MA manufacturers transformed their businesses to peak performance\, and how you can position your business to optimize growth and enterprise value in any state of economy.  Learn how only 7% of owners transition out of their business on their terms and how you can be a part of that elite group. \nDay 2 March 22nd:  In a confidential\, condensed\, guided self-assessment process we will identify your “current state” and discuss how an outside investor\, buyer or lender views your business.  You will then learn about the disciplined\, methodical and sustainable steps you can take immediately to achieve the maximized results talked about in Day 1. \n  \nRegister Here
URL:https://massmep.org/event/buying-selling-growing-or-going-d-maximize-the-value-of-your-business/
LOCATION:MassMEP\, 27A Midstate Drive\, Auburn\, MA\, 01501\, United States
ATTACH;FMTTYPE=image/jpeg:https://massmep.org/wp-content/uploads/2024/09/MassMEP_BlogCover.jpg
END:VEVENT
BEGIN:VEVENT
DTSTART;TZID=America/New_York:20171024T080000
DTEND;TZID=America/New_York:20171024T120000
DTSTAMP:20260421T090342
CREATED:20240828T215200Z
LAST-MODIFIED:20240903T190547Z
UID:10000528-1508832000-1508846400@massmep.org
SUMMARY:Building a Strategic Marketing Plan Primed for Growth & Marketing Tools that every Manufacturer Should Leverage
DESCRIPTION:Building a Strategic Marketing Plan Primed for Growth & Marketing Tools that every Manufacturer Should Leverage\n\n\n\nLean manufacturing will take you far\, but it is exponentially more valuable when paired with a strategic plan for long-term growth. Manufacturers with formalized\, growth-centered strategic plans\nachieve their goals more efficiently and cost-effectively than those who focus only on the bottom line. This workshop will take MassMEP members through the entire process of building a strategic\nplan – from evaluating and prioritizing your needs to devising the best strategy and tactics to address those needs. You can expect to leave this workshop ready to create and implement your own growth-centered strategic marketing plan.\n\nIn today’s digital era\, the most successful manufacturers take the principles of Six Sigma to the next level with innovative new digital marketing tools. You can measure your marketing in the same way that you measure manufacturing processes – and achieve the same sustained quality improvement that Six Sigma brings to your process. This workshop will illustrate useful tools ranging from customer relationship management (CRM) systems that help you keep your customers and prospects happy to marketing automation platforms that take care of repetitive tasks like email and event marketing and everything in between.\nRegister Here
URL:https://massmep.org/event/building-a-strategic-marketing-plan-primed-for-growth-marketing-tools-that-every-manufacturer-should-leverage/
LOCATION:MassMEP\, 27A Midstate Drive\, Auburn\, MA\, 01501\, United States
ATTACH;FMTTYPE=image/jpeg:https://massmep.org/wp-content/uploads/2024/09/MassMEP_BlogCover.jpg
END:VEVENT
BEGIN:VEVENT
DTSTART;TZID=America/New_York:20171017T080000
DTEND;TZID=America/New_York:20171017T120000
DTSTAMP:20260421T090342
CREATED:20240828T215200Z
LAST-MODIFIED:20240903T190546Z
UID:10000527-1508227200-1508241600@massmep.org
SUMMARY:Marketing for Manufacturers Redefined & 10 Tips to Implement Now
DESCRIPTION:Marketing for Manufacturers Redefined & 10 Tips to Implement Now \nMarketing is no longer about sales brochures\, logos and creative. Cutting edge manufacturers are embracing a marketing playbook that is consumed with growth and lead generation vs. creative.\nThis workshop will discuss the changing role marketing plays in a manufacturer’s short and long term growth objectives and what you can do to harness the latest tools and tactics. \nToday\, marketing is the key to growth in the manufacturing sector. New clients won’t come your way unless you pursue them\, and leads will trickle away if you don’t nurture them. Your transformation can – and should – start now. This workshop will offer relevant and immediately actionable tips to maximize your marketing ROI and increase your top-line growth. Topics will include crafting an impactful marketing plan\, developing powerful content\, building out game changing assets\, leveraging the latest digital techniques\, and adding in the right marketing metrics. \nRegister Here
URL:https://massmep.org/event/marketing-for-manufacturers-redefined-10-tips-to-implement-now/
LOCATION:MassMEP\, 27A Midstate Drive\, Auburn\, MA\, 01501\, United States
ATTACH;FMTTYPE=image/jpeg:https://massmep.org/wp-content/uploads/2024/09/MassMEP_BlogCover.jpg
END:VEVENT
END:VCALENDAR