BEGIN:VCALENDAR
VERSION:2.0
PRODID:-//Mass MEP - ECPv6.15.20//NONSGML v1.0//EN
CALSCALE:GREGORIAN
METHOD:PUBLISH
X-WR-CALNAME:Mass MEP
X-ORIGINAL-URL:https://massmep.org
X-WR-CALDESC:Events for Mass MEP
REFRESH-INTERVAL;VALUE=DURATION:PT1H
X-Robots-Tag:noindex
X-PUBLISHED-TTL:PT1H
BEGIN:VTIMEZONE
TZID:America/New_York
BEGIN:DAYLIGHT
TZOFFSETFROM:-0500
TZOFFSETTO:-0400
TZNAME:EDT
DTSTART:20210314T070000
END:DAYLIGHT
BEGIN:STANDARD
TZOFFSETFROM:-0400
TZOFFSETTO:-0500
TZNAME:EST
DTSTART:20211107T060000
END:STANDARD
BEGIN:DAYLIGHT
TZOFFSETFROM:-0500
TZOFFSETTO:-0400
TZNAME:EDT
DTSTART:20220313T070000
END:DAYLIGHT
BEGIN:STANDARD
TZOFFSETFROM:-0400
TZOFFSETTO:-0500
TZNAME:EST
DTSTART:20221106T060000
END:STANDARD
BEGIN:DAYLIGHT
TZOFFSETFROM:-0500
TZOFFSETTO:-0400
TZNAME:EDT
DTSTART:20230312T070000
END:DAYLIGHT
BEGIN:STANDARD
TZOFFSETFROM:-0400
TZOFFSETTO:-0500
TZNAME:EST
DTSTART:20231105T060000
END:STANDARD
END:VTIMEZONE
BEGIN:VEVENT
DTSTART;TZID=America/New_York:20220407T140000
DTEND;TZID=America/New_York:20220407T170000
DTSTAMP:20260421T170925
CREATED:20240828T175710Z
LAST-MODIFIED:20240828T183810Z
UID:10000784-1649340000-1649350800@massmep.org
SUMMARY:Learn More About Manufacturers In The Robotics Hardware and Prototyping Space
DESCRIPTION:RoboSource is an exhibition highlighting our Associated Network and Partners who are suppliers\, manufacturers\, service and solution providers in the robotics and hardware prototyping space. This event will introduce you to a network of resources focused on helping grow and scale hardware intensive companies. \nAt 4:00 p.m. we’ll hear from Christine Nolan\, Director for the Center for Advanced Manufacturing (CAM)\, whose mission is to foster the most complete\, most connected\, and fastest manufacturing ecosystem from innovation through production. She will share information about Massachusetts programs and resources to aid both manufacturers and startups. \nThe event is free and open to the public\, but particularly focused on startups and scaling technology companies. \n*COVID Requirement: 2 dose of COVID vaccine will be required to attend this event – Please bring a photo copy or vaccination card with you. \nRegister Here
URL:https://massmep.org/event/learn-more-about-manufacturers-in-the-robotics-hardware-and-prototyping-space/
LOCATION:MassRobotics District Hall\, 75 Northern Ave\, Boston\, 02210\, United States
ATTACH;FMTTYPE=image/jpeg:https://massmep.org/wp-content/uploads/2024/08/robosource-RSKl8J.tmp_.jpg
END:VEVENT
END:VCALENDAR