BEGIN:VCALENDAR
VERSION:2.0
PRODID:-//Mass MEP - ECPv6.15.20//NONSGML v1.0//EN
CALSCALE:GREGORIAN
METHOD:PUBLISH
X-ORIGINAL-URL:https://massmep.org
X-WR-CALDESC:Events for Mass MEP
REFRESH-INTERVAL;VALUE=DURATION:PT1H
X-Robots-Tag:noindex
X-PUBLISHED-TTL:PT1H
BEGIN:VTIMEZONE
TZID:America/New_York
BEGIN:DAYLIGHT
TZOFFSETFROM:-0500
TZOFFSETTO:-0400
TZNAME:EDT
DTSTART:20200308T070000
END:DAYLIGHT
BEGIN:STANDARD
TZOFFSETFROM:-0400
TZOFFSETTO:-0500
TZNAME:EST
DTSTART:20201101T060000
END:STANDARD
BEGIN:DAYLIGHT
TZOFFSETFROM:-0500
TZOFFSETTO:-0400
TZNAME:EDT
DTSTART:20210314T070000
END:DAYLIGHT
BEGIN:STANDARD
TZOFFSETFROM:-0400
TZOFFSETTO:-0500
TZNAME:EST
DTSTART:20211107T060000
END:STANDARD
BEGIN:DAYLIGHT
TZOFFSETFROM:-0500
TZOFFSETTO:-0400
TZNAME:EDT
DTSTART:20220313T070000
END:DAYLIGHT
BEGIN:STANDARD
TZOFFSETFROM:-0400
TZOFFSETTO:-0500
TZNAME:EST
DTSTART:20221106T060000
END:STANDARD
END:VTIMEZONE
BEGIN:VEVENT
DTSTART;TZID=America/New_York:20210924T090000
DTEND;TZID=America/New_York:20210924T150000
DTSTAMP:20260421T144857
CREATED:20240828T175605Z
LAST-MODIFIED:20240828T183756Z
UID:10000728-1632474000-1632495600@massmep.org
SUMMARY:Lever's 2021 Innovation Summit
DESCRIPTION:Themes \n\nInnovating Workforce Development\nInnovating from Within: the Intrapreneur\nInnovating for Inclusion\n\nTo participate: The entire program will be hybrid format: folks may participate in person\, via Zoom\, or both. \nRegister Here
URL:https://massmep.org/event/levers-2021-innovation-summit-2/
LOCATION:Zoom
ATTACH;FMTTYPE=image/png:https://massmep.org/wp-content/uploads/2024/08/New-Logo-Tagline-e1631292948182-24USwm.tmp_.png
END:VEVENT
BEGIN:VEVENT
DTSTART;TZID=America/New_York:20210923T130000
DTEND;TZID=America/New_York:20210923T210000
DTSTAMP:20260421T144857
CREATED:20240828T175605Z
LAST-MODIFIED:20240828T183756Z
UID:10000727-1632402000-1632430800@massmep.org
SUMMARY:Lever's 2021 Innovation Summit
DESCRIPTION:This is Lever’s second\, biennial Innovation Summit. Our first summit\, held in Williamstown\, Massachusetts in 2019\, featured the conclusion of Lever’s 2019 Berkshire Intrapreneur Challenge\, presentations from regional innovators\, a panel discussion featuring regional innovation centers\, and keynote talks by Carlo Zaffanella from General Dynamics\, and by Steve Case\, founder of America Online. More than 250 people participated in the two-day program. \nThemes \n\nInnovating Workforce Development\nInnovating from Within: the Intrapreneur\nInnovating for Inclusion\n\nTo participate: The entire program will be hybrid format: folks may participate in person\, via Zoom\, or both. \nRegister Here
URL:https://massmep.org/event/levers-2021-innovation-summit/
LOCATION:Zoom
ATTACH;FMTTYPE=image/jpeg:https://massmep.org/wp-content/uploads/2024/09/MassMEP_BlogCover.jpg
END:VEVENT
BEGIN:VEVENT
DTSTART;TZID=America/New_York:20210922T140000
DTEND;TZID=America/New_York:20210922T150000
DTSTAMP:20260421T144857
CREATED:20240828T175612Z
LAST-MODIFIED:20240828T183759Z
UID:10000734-1632319200-1632322800@massmep.org
SUMMARY:Artificial Intelligence in Manufacturing: Real World Success Stories and Lessons Learned Webinar
DESCRIPTION:Artificial intelligence projects improve equipment uptime\, increase quality and throughput\, and reduce scrap – resulting in healthier bottom lines and increased profits. South Carolina MEP’s Andy Carr and Rick Oppedisano\, Founder and CEO of Delta Bravo\, will share use cases featuring several manufacturers including Precision Global\, Metromont\, Rolls-Royce\, JTEKT and Elkem Silicones. Hear these companies’ Industry 4.0 stories including key drivers for success and the potential pitfalls encountered along the way. \n  \nRegister Here
URL:https://massmep.org/event/artificial-intelligence-in-manufacturing-real-world-success-stories-and-lessons-learned-webinar/
LOCATION:Zoom
ATTACH;FMTTYPE=image/jpeg:https://massmep.org/wp-content/uploads/2024/09/MassMEP_BlogCover.jpg
END:VEVENT
BEGIN:VEVENT
DTSTART;TZID=America/New_York:20210914T120000
DTEND;TZID=America/New_York:20210914T133000
DTSTAMP:20260421T144857
CREATED:20240828T175602Z
LAST-MODIFIED:20240828T183756Z
UID:10000726-1631620800-1631626200@massmep.org
SUMMARY:NERDIC Industry 4.0 Readiness Ecosystem: Technology Demonstration on Powder Bed Fusion (PBF) and Bound Metal Deposition (BMD) Additive Manufacturing Processes
DESCRIPTION:Join us for a virtual presentation on the use and results of generative design and resulting demonstration parts printed by the University of Maine Advanced Manufacturing Center/Center for Additive Manufacturing of Metals. \nValued at a $7.3-billion worldwide market value in 2017\, additive manufacturing (AM) is disrupting multiple markets by enabling engineers to rapidly manufacture parts having substantial geometric freedom. Unfortunately\, this geometric freedom is often realized with materials having insufficient properties (e.g.\, stiffness\, strength\, melting temperature) for production requirements. Addressing this problem\, the rapidly-growing additive manufacturing of metals (AMM) sector now includes multiple processes\, including Powder Bed Fusion (PBF) and Bound Metal Deposition (BMD). \nThis session will be recorded and made available on-demand. \nLearning Objectives \nBy the conclusion of the presentation\, attendees will:\n¥ Understand the advantages and disadvantages of PBF and BMD AMM processes\n¥ Recognize how AMM process and design advantages can add value within supply chains while increasing part functionality\n¥ Reflect upon their current portfolios to determine candidate AMM applications \nPresenters \nDr. Brett Ellis\, Associate Professor\, Co-Director- Center for Additive Manufacturing of Metals\, University of Maine\nJohn Belding PE\, Director- Advanced Manufacturing Center\, Co-Director- Center for Additive Manufacturing of Metals\, University of Maine \nRegister Here
URL:https://massmep.org/event/nerdic-industry-4-0-readiness-ecosystem-technology-demonstration-on-powder-bed-fusion-pbf-and-bound-metal-deposition-bmd-additive-manufacturing-processes/
LOCATION:Zoom
ATTACH;FMTTYPE=image/jpeg:https://massmep.org/wp-content/uploads/2024/09/MassMEP_BlogCover.jpg
END:VEVENT
BEGIN:VEVENT
DTSTART;TZID=America/New_York:20210817T120000
DTEND;TZID=America/New_York:20210817T133000
DTSTAMP:20260421T144857
CREATED:20240828T175602Z
LAST-MODIFIED:20240828T183756Z
UID:10000725-1629201600-1629207000@massmep.org
SUMMARY:NERDIC Industry 4.0 Readiness Ecosystem: Technology Demonstration on 3D Printed Parts Manufactured with the Desktop Metal Studio System for Defense Supply
DESCRIPTION:Join us for a virtual presentation on the use and results of generative design and resulting demonstration parts printed by Berkshire Innovation Center/BSS Additive. \nLearn about what to expect when installing a Desktop Metal System; Overview of install & operations experience\, facility\, safety & training requirements\, vendor support; How the BIC\, CCAT and UMaine benchmarked these systems; How to access benchmark files and data; Description of DM case studies underway at BIC; How to access BIC’s facility for training\, application development and project collaboration. \nThis session will be recorded and made available on-demand. \nLearning Objectives \nLearn how Desktop Metal Studio System can be used in defense manufacturing:\n¥ How to prepare your facility\, permitting requirements\, facility certification options\n¥ OSHA training and safety requirements\, compared with LPBF\, DMLS\, LENS and Binder Jetting\n¥ Advantages / disadvantages of printing with bound metal powder compared with LPBF\n¥ Outline applications for DM metal prototypes\, fixtures\, molds and end use parts\n¥ Review of the design process for benchmarking\, developed with CCAT and UMaine – Can the NIST AM Test Artifact be used in FDM metal printing or is a new standard needed?\n¥ Comparison of benchmark results with other 3D printing processes available at CCAT\, BIC and UMaine (including LPBF\, Binder Jetting\, large format polymer FDM and DMLS)\n¥ Can Fused Deposition Modeled Sintered metal parts meet Mil-spec end use requirements? \nPresenters \nSteven Longpre\, CEO BSS Additive\, Operations Manager Berkshire Innovation Center\nJean Mozolic\, Founder\, The Mozolic Group\nMark Rowan\, Principal\, Roundabout Consulting \nRegister Here
URL:https://massmep.org/event/nerdic-industry-4-0-readiness-ecosystem-technology-demonstration-on-3d-printed-parts-manufactured-with-the-desktop-metal-studio-system-for-defense-supply/
LOCATION:Zoom
ATTACH;FMTTYPE=image/jpeg:https://massmep.org/wp-content/uploads/2024/09/MassMEP_BlogCover.jpg
END:VEVENT
BEGIN:VEVENT
DTSTART;TZID=America/New_York:20210817T110000
DTEND;TZID=America/New_York:20210817T120000
DTSTAMP:20260421T144857
CREATED:20240828T175601Z
LAST-MODIFIED:20240828T183756Z
UID:10000722-1629198000-1629201600@massmep.org
SUMMARY:Ask the Grant Experts: How Can We Get a Grant for our Training Needs? A Q&A Session with AIM HR Solutions & MassMEP
DESCRIPTION:Each year\, the Commonwealth of Massachusetts awards millions of dollars in grant money to Massachusetts businesses through the Workforce Training Fund (WTFP). Many companies are not familiar with the General Grant Program funded by the Workforce Training Fund Program. It’s time for your organization to take advantage of this funding and achieve business growth\, increased productivity\, and employee retention. \nObtaining one of these grants can be a lengthy process that can be overwhelming and time-consuming.\nWe are here to help you realize that getting one of these grants is doable and that the benefits of the General Grant Program can far exceed the application effort. Join AIM HR Solutions & MassMEP grant experts as they answer the most asked questions surrounding the General Grant Program\, such as: \nDo I qualify\, and how do I get started?\n-What are some best practices and tips for getting my application approved?\n-How long does the process take?\n-How do I build a training plan that meets my organization’s needs?\n-What other grant program options should I consider? \nParticipants will have the ability to submit their questions in advance. \nRegister Here
URL:https://massmep.org/event/ask-the-grant-experts-how-can-we-get-a-grant-for-our-training-needs-a-qa-session-with-aim-hr-solutions-massmep/
LOCATION:Zoom
ATTACH;FMTTYPE=image/jpeg:https://massmep.org/wp-content/uploads/2024/09/MassMEP_BlogCover.jpg
END:VEVENT
BEGIN:VEVENT
DTSTART;TZID=America/New_York:20210811T110000
DTEND;TZID=America/New_York:20210811T120000
DTSTAMP:20260421T144857
CREATED:20240828T175601Z
LAST-MODIFIED:20240828T183756Z
UID:10000723-1628679600-1628683200@massmep.org
SUMMARY:Cybersecurity & CMMC: Weapons against Cyberattacks
DESCRIPTION:In the current climate cyberattacks are at an all time high and manufacturers need ways to help keep them ahead of these risks. Clients are also putting cybersecurity as one of their top audit items in their B to B environment. \nJoin MassMEP as Synagex and Cybersaint will present ways to weaponize manufacturers against these cyberattacks\, stay in compliance as a DoD supplier\, and educate themselves and their teams with a minimal to no-cash flow obligation. \nRegister Here
URL:https://massmep.org/event/cybersecurity-cmmc-weapons-against-cyberattacks/
LOCATION:Zoom
ATTACH;FMTTYPE=image/jpeg:https://massmep.org/wp-content/uploads/2024/09/MassMEP_BlogCover.jpg
END:VEVENT
BEGIN:VEVENT
DTSTART;TZID=America/New_York:20210810T120000
DTEND;TZID=America/New_York:20210810T133000
DTSTAMP:20260421T144857
CREATED:20240828T175602Z
LAST-MODIFIED:20240828T183756Z
UID:10000724-1628596800-1628602200@massmep.org
SUMMARY:NERDIC Industry 4.0 Readiness Ecosystem: Technology Demonstration on Generative Design and Additive Manufacturing
DESCRIPTION:Join us for a virtual presentation on the use and results of generative design and resulting demonstration parts printed by CCAT. \nGenerative design mimics nature’s evolutionary approach to design. Parameters such as materials\, manufacturing methods\, strength and thermal requirements are defined\, and the AI driven generative design process fully optimizes the design to best fulfill functional requirements. \n3D Printing (or Additive Manufacturing) is a powerful tool available to manufacturers. Some companies are adopting the technology to produce end-use parts\, but even if your customers are not sending you RFQ’s for additively made parts\, most companies can adopt additive to create tools\, fixtures\, prototypes and other aids to assist traditional manufacturing processes. \nThis session will be recorded and made available on-demand. \nLearning Objectives \nBy the conclusion of the presentation\, attendees will:\n¥ Learn the basics of generative design workflow\n¥ Learn what parameters can be optimized\n¥ Understand how generative design can best leverage additive manufacturing \nPresenters \nNasir Mannan\, M. Eng.\, Principal Engineer\, Advanced Design\, Automation & Metrology Lab\, CCAT\nKristi Oki\, Mechanical Engineer\, Advanced Design\, Automation & Metrology Lab\, CCAT\nJeff Crandall\, Additive Technologies Manager\, CCAT \nRegister Here
URL:https://massmep.org/event/nerdic-industry-4-0-readiness-ecosystem-technology-demonstration-on-generative-design-and-additive-manufacturing/
LOCATION:Zoom
ATTACH;FMTTYPE=image/jpeg:https://massmep.org/wp-content/uploads/2024/09/MassMEP_BlogCover.jpg
END:VEVENT
BEGIN:VEVENT
DTSTART;TZID=America/New_York:20210728T110000
DTEND;TZID=America/New_York:20210728T120000
DTSTAMP:20260421T144857
CREATED:20240828T175600Z
LAST-MODIFIED:20240828T183755Z
UID:10000720-1627470000-1627473600@massmep.org
SUMMARY:Market\, Recruit and Retain the Manufacturing Workforce
DESCRIPTION:In this webinar the focus will be on different marketing and recruitment strategies in order to continuously build on the manufacturing workforce and gain new employees. The panel will host guest speakers; Deanna Zarella (AIS\, Inc.)\, Chris Ciunci (Tribal Vision)\, Andrea Pion (The Davis Companies) and Jeff Turgeon (MassHire) to discuss their strategies on how to retain and recruit employees in the current climate.  \nRegister Here
URL:https://massmep.org/event/market-recruit-and-retain-the-manufacturing-workforce/
LOCATION:Zoom
ATTACH;FMTTYPE=image/jpeg:https://massmep.org/wp-content/uploads/2024/09/MassMEP_BlogCover.jpg
END:VEVENT
BEGIN:VEVENT
DTSTART;TZID=America/New_York:20210727T120000
DTEND;TZID=America/New_York:20210727T130000
DTSTAMP:20260421T144857
CREATED:20240828T175600Z
LAST-MODIFIED:20240828T183755Z
UID:10000719-1627387200-1627390800@massmep.org
SUMMARY:Technology Demonstration on Augmented Reality for Industry 4.0
DESCRIPTION:This technology demonstration is part of the NERDIC Industry 4.0 Readiness Ecosystem program for the New England defense supply chain. For more information\, please visit ccat.us/NERDIC. \nJoin us for a virtual presentation on the results of the demonstration pilot conducted by SphereGen/The Impact Group on the use and implementation of augmented reality in manufacturing. \nAugmented Reality is the overlaying of digital content into the physical environment. Specifically\, to manufacturing\, this can include any type of virtual parts\, data\, photos\, videos\, and work instructions. These assets can be transposed on to a machine in the real world for easier training and troubleshooting through a device such as a phone or headset. Our engagement with CCAT is specific to HoloLens 2 which is an advanced augmented reality headset created by Microsoft. HoloLens 2 has comprehensive voice recognition\, gesture recognition and is a hands-free heads-up display. \nRegister Here
URL:https://massmep.org/event/technology-demonstration-on-augmented-reality-for-industry-4-0/
LOCATION:Zoom
ATTACH;FMTTYPE=image/jpeg:https://massmep.org/wp-content/uploads/2024/09/MassMEP_BlogCover.jpg
END:VEVENT
BEGIN:VEVENT
DTSTART;TZID=America/New_York:20210721T110000
DTEND;TZID=America/New_York:20210721T120000
DTSTAMP:20260421T144857
CREATED:20240828T175553Z
LAST-MODIFIED:20240828T183755Z
UID:10000713-1626865200-1626868800@massmep.org
SUMMARY:If you have 30 minutes\, you could get $30\,000 in New Express Grant Opportunities
DESCRIPTION:If you haven’t heard there is a new Express Grant program in town and it is shaking things up for Manufacturers. Join MassMEP and Tribal Vision as we discuss the course options that will now be available to all manufacturers across the commonwealth. These new express grant opportunities are available now and this one-hour webinar  will explain what is available to you in their Marketing and Lead Generation modules. These modules focus on strategy & planning as well as implementation. \nLearn more about the new Express Grant program that provides training funds up to $30\,000/year/company with no match if you are 100 employees or less. If you are over 100 employees it is a 50/50 match\, so $0.50 for every $1.00. \nYou won’t want to miss this if you have a tight budget\, but know you need some continuous improvement within your organization. \nRegister Here
URL:https://massmep.org/event/if-you-have-30-minutes-you-could-get-30000-in-new-express-grant-opportunities/
LOCATION:Zoom
ATTACH;FMTTYPE=image/jpeg:https://massmep.org/wp-content/uploads/2024/09/MassMEP_BlogCover.jpg
END:VEVENT
BEGIN:VEVENT
DTSTART;TZID=America/New_York:20210720T120000
DTEND;TZID=America/New_York:20210720T130000
DTSTAMP:20260421T144857
CREATED:20240828T175600Z
LAST-MODIFIED:20240828T183755Z
UID:10000718-1626782400-1626786000@massmep.org
SUMMARY:Technology Demonstration on Using AI Technology to Crosstrain & Upskill...
DESCRIPTION:This technology demonstration is part of the NERDIC Industry 4.0 Readiness Ecosystem program for the New England defense supply chain. For more information\, please visit ccat.us/NERDIC. \nJoin this virtual presentation on the results of the demonstration pilot conducted by Stanley X/DeepHow on the use and implementation of DeepHow AI technology in manufacturing. \nStanley X\, in partnership with DeepHow\, will share their AI-powered solution to capture\, train and transfer knowledge among skilled workers. This system allows documentation of standard work of high performing\, subject matter expert employees\, converting into Smart how-to videos for staff to learn from and reference\, using standard enterprise tools and no special equipment or skills. \nRegister Here
URL:https://massmep.org/event/technology-demonstration-on-using-ai-technology-to-crosstrain-upskill/
LOCATION:Zoom
ATTACH;FMTTYPE=image/jpeg:https://massmep.org/wp-content/uploads/2024/09/MassMEP_BlogCover.jpg
END:VEVENT
BEGIN:VEVENT
DTSTART;TZID=America/New_York:20210713T120000
DTEND;TZID=America/New_York:20210713T130000
DTSTAMP:20260421T144857
CREATED:20240828T175554Z
LAST-MODIFIED:20240828T183755Z
UID:10000717-1626177600-1626181200@massmep.org
SUMMARY:Technology Demonstration on Machine Tool Probing for Industry 4.0
DESCRIPTION:This technology demonstration is part of the NERDIC Industry 4.0 Readiness Ecosystem program for the New England defense supply chain. For more information\, please visit ccat.us/NERDIC. \nJoin us for a virtual presentation on the use and results of automated probing for CNC machining of a demonstration part. \nProbing is an established best practice for maximizing the efficiency\, quality\, capability\, and accuracy of machine tools. Standard routines built into modern CNC controls simplify the integration of probing cycles into machining operations and offline tools. These routines\, combined with a CAD interface\, make the simulation of measurement functions easy. \nOn machine probe solutions can help reduce set_up times by up to 90% and improve your process control. This technology provides solutions for tool setting\, broken tool detection\, component set-up\, in-cycle gauging and first-off component inspection\, with automatic offset updates. \nOn machine probing can deliver significant cost savings\, and improvements in quality\, for all applications using machine tools throughout many industries. \nRegister Here
URL:https://massmep.org/event/technology-demonstration-on-machine-tool-probing-for-industry-4-0/
LOCATION:Zoom
ATTACH;FMTTYPE=image/png:https://massmep.org/wp-content/uploads/2024/08/nerdic-pEwcoW.tmp_.png
END:VEVENT
BEGIN:VEVENT
DTSTART;TZID=America/New_York:20210713T110000
DTEND;TZID=America/New_York:20210713T120000
DTSTAMP:20260421T144857
CREATED:20240828T175554Z
LAST-MODIFIED:20240828T183755Z
UID:10000714-1626174000-1626177600@massmep.org
SUMMARY:Are these buzz words or real problems\, Supply Chain & Reshoring?
DESCRIPTION:In the wake of the pandemic\, tariff changes\, security issues\, and ever-increasing customer demands\, managing supply chains has become a more important topic to manufacturers. There is a new appreciation for integrating suppliers more closely with manufacturing operations and information systems. \nThis webinar will cover three related topics:\na. Taking risk out of supply chains\nb. Better managing demand in order to bring more predictability to supply chains\nc. Reshoring\nd. MassMEP programs and grant funding \nWith Business Improvement Group \nRegister Here
URL:https://massmep.org/event/are-these-buzz-words-or-real-problems-supply-chain-reshoring/
LOCATION:Zoom
ATTACH;FMTTYPE=image/jpeg:https://massmep.org/wp-content/uploads/2024/09/MassMEP_BlogCover.jpg
END:VEVENT
BEGIN:VEVENT
DTSTART;TZID=America/New_York:20210701T113000
DTEND;TZID=America/New_York:20210701T123000
DTSTAMP:20260421T144857
CREATED:20240828T175548Z
LAST-MODIFIED:20240828T183754Z
UID:10000712-1625139000-1625142600@massmep.org
SUMMARY:Industrial Data Platform with MachineMetrics
DESCRIPTION:Industry 4.0 Machine Metrics IoT \nMassMEP\, along with partner MachineMetrics Justin Garland\, Director of Sales\, invites you to attend an information session that will focus on a deep dive presentation about MachineMetrics Industrial Data platform including a presentation and demo. MassMEP will be on hand to provide a brief overview of the program and funding. \nRegister Here
URL:https://massmep.org/event/industrial-data-platform-with-machinemetrics/
LOCATION:Zoom
ATTACH;FMTTYPE=image/jpeg:https://massmep.org/wp-content/uploads/2024/09/MassMEP_BlogCover.jpg
END:VEVENT
BEGIN:VEVENT
DTSTART;TZID=America/New_York:20210624T110000
DTEND;TZID=America/New_York:20210624T120000
DTSTAMP:20260421T144857
CREATED:20240828T175554Z
LAST-MODIFIED:20240828T183755Z
UID:10000716-1624532400-1624536000@massmep.org
SUMMARY:Massachusetts Manufacturing Accelerate Program (MMAP) - Preparing the Supply Chain
DESCRIPTION:Through the Massachusetts Manufacturing Accelerate Program (MMAP)\, the Commonwealth of Massachusetts seeks to invest in small- to medium-sized manufacturers to help coordinate and prepare our supply chain to respond to increasing demands and to spur new opportunities for growth. The program will run annually\, utilizing a streamlined application and approval process to ease the burden on manufacturers and to create an immediate impact on company growth. \nJoin MassMEP and The Center for Advanced Manufacturing’s Christine Nolan for the one hour webinar as she will provide a program overview\, key points\, takeaways and answer all your questions. \n\nRegister Here
URL:https://massmep.org/event/massachusetts-manufacturing-accelerate-program-mmap-preparing-the-supply-chain/
LOCATION:Zoom
ATTACH;FMTTYPE=image/jpeg:https://massmep.org/wp-content/uploads/2024/09/MassMEP_BlogCover.jpg
END:VEVENT
BEGIN:VEVENT
DTSTART;TZID=America/New_York:20210610T110000
DTEND;TZID=America/New_York:20210610T123000
DTSTAMP:20260421T144857
CREATED:20240828T175554Z
LAST-MODIFIED:20240828T183755Z
UID:10000715-1623322800-1623328200@massmep.org
SUMMARY:Manufacturing Resources for Small Businesses
DESCRIPTION:About this event \nExperts:\nRichards Sullivan\, Advanced Manufacturing Technology Manager\nMark Manuel\, Certified Thomas Partner I Thomas \nMassMEP in Worcester\, MA is an expert resource committed to Manufacturing growth in Massachusetts. MassMEP is one of 51 MEP Centers throughout the United States and Puerto Rico that operates through a cooperative agreement. \nThomas Register of American Manufacturers\, now ThomasNet. In 2010\, ThomasNet started communicating with its database of manufacturers to get a better understanding of where the community was\, where their shortcomings were\, and where they saw the landscape going in the future. \nRegister Here
URL:https://massmep.org/event/manufacturing-resources-for-small-businesses/
LOCATION:Zoom
ATTACH;FMTTYPE=image/jpeg:https://massmep.org/wp-content/uploads/2024/09/MassMEP_BlogCover.jpg
ORGANIZER;CN="United States Small Business Administration - Massachuetts District Office":MAILTO:sgrip@umass.edu
END:VEVENT
BEGIN:VEVENT
DTSTART;TZID=America/New_York:20210609T110000
DTEND;TZID=America/New_York:20210609T120000
DTSTAMP:20260421T144857
CREATED:20240828T175548Z
LAST-MODIFIED:20240828T183754Z
UID:10000711-1623236400-1623240000@massmep.org
SUMMARY:Grant Info Session - What training grant funds are available?
DESCRIPTION:MassMEP and Quaboag CDC are providing a workshop designed to help companies on how to access training grant funds in a consortium of other manufacturers that share common training goals. The takeaway is that companies will be able to join a consortium in your region. \nOur experts will guide you through the application process. \n Specific topics covered in this workshop include: \n\nDevelop a Training Plan\nEstablish Training Objectives\nIdentify Key Performance Indicators\n\n  \nGuest Speakers: Lisa Derby Oden\, MassMEP and Sheila Cuddy\, Quaboag CDC \nRegister Here
URL:https://massmep.org/event/grant-info-session-what-training-grant-funds-are-available/
LOCATION:Zoom
ATTACH;FMTTYPE=image/jpeg:https://massmep.org/wp-content/uploads/2024/09/MassMEP_BlogCover.jpg
END:VEVENT
BEGIN:VEVENT
DTSTART;TZID=America/New_York:20210510T080000
DTEND;TZID=America/New_York:20210510T120000
DTSTAMP:20260421T144857
CREATED:20240828T175538Z
LAST-MODIFIED:20240828T183751Z
UID:10000697-1620633600-1620648000@massmep.org
SUMMARY:ISO Internal Auditor 9001:2015 - Small Business Direct Access (SBDAP)
DESCRIPTION:This is a 4-day training see recurring event \nWho Should Attend: This course is recommended for anyone involved in designing\, implementing\, maintaining\, and improving a quality management system and/or performing internal audits of a quality management system\, such as quality officers\, managers\, and auditors. No prior knowledge of auditing\, quality management systems\, or ISO 9001:2008 is required prior to attending this course. \nCourse Highlights / Topics Covered: \n\nThe process approach\, performance indicators and risk\nThe “Plan-Do-Check-Act” principle\nThe key elements of a quality management system\, management of documents/records\, deviations\, corrective and preventive actions\nManagement responsibility\, management representative and management review\nMeasurement\, analysis and continuous improvement on customer satisfaction\, quality management effectiveness through internal audits\, process performance and conformity to product requirements\nWhat are internal audits\nWhy are internal audits conducted\nWhat preparatory work should be carried out before an audit\nWhat to pay attention to during the audit\nWhat is a good audit report\nWhat aspects are important in monitoring audit results\, corrective and preventive actions\n\nStudents will benefit by: \n\nLearning how to plan\, conduct\, and report quality audit results\nEnhancing your understanding of the components of an internal quality audit program\nGaining an in-depth understanding of ISO 9001 requirements\nGetting answers to your toughest audit questions\n\nCapturing a working knowledge of the practices\, roles and responsibilities of an auditor \nRegister Here
URL:https://massmep.org/event/iso-internal-auditor-90012015-small-business-direct-access-sbdap-6/
LOCATION:Zoom
ATTACH;FMTTYPE=image/jpeg:https://massmep.org/wp-content/uploads/2024/09/MassMEP_BlogCover.jpg
END:VEVENT
BEGIN:VEVENT
DTSTART;TZID=America/New_York:20210415T130000
DTEND;TZID=America/New_York:20210415T140000
DTSTAMP:20260421T144857
CREATED:20240828T175542Z
LAST-MODIFIED:20240828T183751Z
UID:10000700-1618491600-1618495200@massmep.org
SUMMARY:MA Manufacturing Resources for Small Businesses
DESCRIPTION:PTAC Mission: \nTo provide assistance to qualified Massachusetts-based firms that are selling to – or have the capability and desire to sell to – federal\, state\, and local-government buying authorities \nHear MA PTAC talk about manufacturing resources \n \nStan Grip \nsgrip @umass.edu (413) 404-3670
URL:https://massmep.org/event/ma-manufacturing-resources-for-small-businesses/
LOCATION:Zoom
ATTACH;FMTTYPE=image/jpeg:https://massmep.org/wp-content/uploads/2024/08/https___cdn.evbuc_.com_images_130971091_19620150348_1_original-vCQDkS.tmp_.jpg
ORGANIZER;CN="United States Small Business Administration - Massachuetts District Office":MAILTO:sgrip@umass.edu
END:VEVENT
END:VCALENDAR